BEGIN:VCALENDAR
VERSION:2.0
PRODID:-//Adventiste FFN - ECPv6.15.20//NONSGML v1.0//EN
CALSCALE:GREGORIAN
METHOD:PUBLISH
X-WR-CALNAME:Adventiste FFN
X-ORIGINAL-URL:https://adventisteffn.org
X-WR-CALDESC:Évènements pour Adventiste FFN
REFRESH-INTERVAL;VALUE=DURATION:PT1H
X-Robots-Tag:noindex
X-PUBLISHED-TTL:PT1H
BEGIN:VTIMEZONE
TZID:Europe/Paris
BEGIN:DAYLIGHT
TZOFFSETFROM:+0100
TZOFFSETTO:+0200
TZNAME:CEST
DTSTART:20190331T010000
END:DAYLIGHT
BEGIN:STANDARD
TZOFFSETFROM:+0200
TZOFFSETTO:+0100
TZNAME:CET
DTSTART:20191027T010000
END:STANDARD
BEGIN:DAYLIGHT
TZOFFSETFROM:+0100
TZOFFSETTO:+0200
TZNAME:CEST
DTSTART:20200329T010000
END:DAYLIGHT
BEGIN:STANDARD
TZOFFSETFROM:+0200
TZOFFSETTO:+0100
TZNAME:CET
DTSTART:20201025T010000
END:STANDARD
BEGIN:DAYLIGHT
TZOFFSETFROM:+0100
TZOFFSETTO:+0200
TZNAME:CEST
DTSTART:20210328T010000
END:DAYLIGHT
BEGIN:STANDARD
TZOFFSETFROM:+0200
TZOFFSETTO:+0100
TZNAME:CET
DTSTART:20211031T010000
END:STANDARD
END:VTIMEZONE
BEGIN:VEVENT
DTSTART;TZID=Europe/Paris:20200906T170000
DTEND;TZID=Europe/Paris:20200906T190000
DTSTAMP:20260422T163549
CREATED:20200825T111333Z
LAST-MODIFIED:20200906T115616Z
UID:34125-1599411600-1599418800@adventisteffn.org
SUMMARY:Équilibre alimentaire et végétarisme/végétalisme
DESCRIPTION:Le département Santé de la Fédération France Nord (FFN)  d’entamer la rentrée en discutant d’équilibre alimentaire ! Trois diététiciennes aborderont la question de « L’équilibre alimentaire et végétarisme/végétalisme » à travers deux conférences.Il sera possible de découvrir en détail les bases de l’équilibre alimentaire. \n  \nDimanche 30 août à 17h :  \n\nDéfinition\nFocus sur les nutriments essentiels\nQuizz\n\n  \nDimanche 06 septembre à 17h :  \n\nPyramide végétarienne\nVitamines et minéraux\nCarences et excès… ATTENTION !\nQuizz\n\n  \nIl serra possible de suivre la conférence via : \n\nYouTube : Youtube.com/AdventisteFFN\nZoom : ID de réunion 956 6514 7077 ou  https://zoom.us/j/95665147077
URL:https://adventisteffn.org/evenement/equilibre-alimentaire-et-vegetarisme-vegetalisme-2/
CATEGORIES:Santé
END:VEVENT
BEGIN:VEVENT
DTSTART;VALUE=DATE:20200912
DTEND;VALUE=DATE:20200914
DTSTAMP:20260422T163549
CREATED:20200403T183407Z
LAST-MODIFIED:20200913T204141Z
UID:31116-1599868800-1600041599@adventisteffn.org
SUMMARY:RIFA 2020
DESCRIPTION:
URL:https://adventisteffn.org/evenement/rifa-2020/
CATEGORIES:Jeunesse Adventiste
END:VEVENT
BEGIN:VEVENT
DTSTART;TZID=Europe/Paris:20200919T100000
DTEND;TZID=Europe/Paris:20200919T173000
DTSTAMP:20260422T163549
CREATED:20200918T205625Z
LAST-MODIFIED:20200918T205625Z
UID:34520-1600509600-1600536600@adventisteffn.org
SUMMARY:RIFA 2020 (visioconférence)
DESCRIPTION:
URL:https://adventisteffn.org/evenement/rifa-2020-visioconference/
CATEGORIES:Jeunesse Adventiste
END:VEVENT
BEGIN:VEVENT
DTSTART;TZID=Europe/Paris:20200920T090000
DTEND;TZID=Europe/Paris:20200920T103000
DTSTAMP:20260422T163549
CREATED:20200918T205625Z
LAST-MODIFIED:20200919T210033Z
UID:34521-1600592400-1600597800@adventisteffn.org
SUMMARY:Assemblée Générale FFJAN (visioconférence)
DESCRIPTION:
URL:https://adventisteffn.org/evenement/assemblee-generale-ffjan-visioconference/
CATEGORIES:Jeunesse Adventiste
END:VEVENT
BEGIN:VEVENT
DTSTART;VALUE=DATE:20200925
DTEND;VALUE=DATE:20200926
DTSTAMP:20260422T163549
CREATED:20200128T162259Z
LAST-MODIFIED:20200402T183420Z
UID:28882-1600992000-1601078399@adventisteffn.org
SUMMARY:OUVERTURE DE SABBAT LET'S CELEBRATE
DESCRIPTION:Let’s Celebrate\, un nouveau programme d’ouverture de sabbat !Si tu es seul pour ouvrir ton Sabbat ou que tu as simplement envie d’être avec des personnes qui sont dans la joie de louer le Seigneur\, Let’s celebrate est pour toi !Tous les 4e vendredis du mois\, il y aura une célébration de Sabbat à partir de 18h à la maison de l’Espérance. L’ouverture des portes se fera à 17h30.Au programme : un apéritif\, des louanges et des temps de prière.Tout le monde est convié\, alors n’oublie pas d’inviter tes amis. Venons le célébrer!
URL:https://adventisteffn.org/evenement/ouverture-de-sabbat-lets-celebrate-8/
LOCATION:La Maison de l’Espérance 75005 Paris
CATEGORIES:Jeunesse Adventiste
END:VEVENT
BEGIN:VEVENT
DTSTART;TZID=Europe/Paris:20200925T193000
DTEND;TZID=Europe/Paris:20200925T213000
DTSTAMP:20260422T163549
CREATED:20200918T205625Z
LAST-MODIFIED:20200924T230905Z
UID:34523-1601062200-1601069400@adventisteffn.org
SUMMARY:Let’s celebrate
DESCRIPTION:
URL:https://adventisteffn.org/evenement/lets-celebrate/
LOCATION:zoom: ID : 993 4935 8631 Mdp : Jeunes@ffn
CATEGORIES:Jeunesse Adventiste
END:VEVENT
END:VCALENDAR