BEGIN:VCALENDAR
VERSION:2.0
PRODID:-//Adventiste FFN - ECPv6.15.20//NONSGML v1.0//EN
CALSCALE:GREGORIAN
METHOD:PUBLISH
X-ORIGINAL-URL:https://adventisteffn.org
X-WR-CALDESC:Évènements pour Adventiste FFN
REFRESH-INTERVAL;VALUE=DURATION:PT1H
X-Robots-Tag:noindex
X-PUBLISHED-TTL:PT1H
BEGIN:VTIMEZONE
TZID:Europe/Paris
BEGIN:DAYLIGHT
TZOFFSETFROM:+0100
TZOFFSETTO:+0200
TZNAME:CEST
DTSTART:20190331T010000
END:DAYLIGHT
BEGIN:STANDARD
TZOFFSETFROM:+0200
TZOFFSETTO:+0100
TZNAME:CET
DTSTART:20191027T010000
END:STANDARD
BEGIN:DAYLIGHT
TZOFFSETFROM:+0100
TZOFFSETTO:+0200
TZNAME:CEST
DTSTART:20200329T010000
END:DAYLIGHT
BEGIN:STANDARD
TZOFFSETFROM:+0200
TZOFFSETTO:+0100
TZNAME:CET
DTSTART:20201025T010000
END:STANDARD
BEGIN:DAYLIGHT
TZOFFSETFROM:+0100
TZOFFSETTO:+0200
TZNAME:CEST
DTSTART:20210328T010000
END:DAYLIGHT
BEGIN:STANDARD
TZOFFSETFROM:+0200
TZOFFSETTO:+0100
TZNAME:CET
DTSTART:20211031T010000
END:STANDARD
END:VTIMEZONE
BEGIN:VEVENT
DTSTART;TZID=Europe/Paris:20200801T221500
DTEND;TZID=Europe/Paris:20200801T230000
DTSTAMP:20260422T150038
CREATED:20200521T090610Z
LAST-MODIFIED:20200604T102105Z
UID:32468-1596320100-1596322800@adventisteffn.org
SUMMARY:Culte des enfants via Zoom
DESCRIPTION:Nous proposons aux enfants jusqu’à 11-12 ans de suivre un culte tous les samedis matin à 10h15 via Zoom :\n– https://zoom.us/j/91927823107 – Mot de passe : Enf@nts\n– Zoom ID de réunion : 919 2782 3107 – Mot de passe : Enf@nts\n– Composez un numéro en fonction de votre emplacement :\n+33 7 5678 4048 France\n+33 1 7037 2246 France\n+33 1 7037 9729 France\nID de réunion : 919 2782 3107
URL:https://adventisteffn.org/evenement/culte-des-enfants-via-zoom-11/
CATEGORIES:Ministère Enfants (MAE) et Catéchèse des enfants et jeunes (EDS enfantine)
END:VEVENT
BEGIN:VEVENT
DTSTART;VALUE=DATE:20200803
DTEND;VALUE=DATE:20200810
DTSTAMP:20260422T150038
CREATED:20200403T183407Z
LAST-MODIFIED:20200519T165145Z
UID:31115-1596412800-1597017599@adventisteffn.org
SUMMARY:Camporée UFBJA
DESCRIPTION:
URL:https://adventisteffn.org/evenement/camporee-ufbja/
CATEGORIES:Jeunesse Adventiste
END:VEVENT
BEGIN:VEVENT
DTSTART;TZID=Europe/Paris:20200808T221500
DTEND;TZID=Europe/Paris:20200808T230000
DTSTAMP:20260422T150038
CREATED:20200521T090610Z
LAST-MODIFIED:20200604T102105Z
UID:32469-1596924900-1596927600@adventisteffn.org
SUMMARY:Culte des enfants via Zoom
DESCRIPTION:Nous proposons aux enfants jusqu’à 11-12 ans de suivre un culte tous les samedis matin à 10h15 via Zoom :\n– https://zoom.us/j/91927823107 – Mot de passe : Enf@nts\n– Zoom ID de réunion : 919 2782 3107 – Mot de passe : Enf@nts\n– Composez un numéro en fonction de votre emplacement :\n+33 7 5678 4048 France\n+33 1 7037 2246 France\n+33 1 7037 9729 France\nID de réunion : 919 2782 3107
URL:https://adventisteffn.org/evenement/culte-des-enfants-via-zoom-12/
CATEGORIES:Ministère Enfants (MAE) et Catéchèse des enfants et jeunes (EDS enfantine)
END:VEVENT
BEGIN:VEVENT
DTSTART;TZID=Europe/Paris:20200815T221500
DTEND;TZID=Europe/Paris:20200815T230000
DTSTAMP:20260422T150038
CREATED:20200521T090610Z
LAST-MODIFIED:20200604T102105Z
UID:32470-1597529700-1597532400@adventisteffn.org
SUMMARY:Culte des enfants via Zoom
DESCRIPTION:Nous proposons aux enfants jusqu’à 11-12 ans de suivre un culte tous les samedis matin à 10h15 via Zoom :\n– https://zoom.us/j/91927823107 – Mot de passe : Enf@nts\n– Zoom ID de réunion : 919 2782 3107 – Mot de passe : Enf@nts\n– Composez un numéro en fonction de votre emplacement :\n+33 7 5678 4048 France\n+33 1 7037 2246 France\n+33 1 7037 9729 France\nID de réunion : 919 2782 3107
URL:https://adventisteffn.org/evenement/culte-des-enfants-via-zoom-13/
CATEGORIES:Ministère Enfants (MAE) et Catéchèse des enfants et jeunes (EDS enfantine)
END:VEVENT
BEGIN:VEVENT
DTSTART;TZID=Europe/Paris:20200822T221500
DTEND;TZID=Europe/Paris:20200822T230000
DTSTAMP:20260422T150038
CREATED:20200521T090610Z
LAST-MODIFIED:20200604T102105Z
UID:32471-1598134500-1598137200@adventisteffn.org
SUMMARY:Culte des enfants via Zoom
DESCRIPTION:Nous proposons aux enfants jusqu’à 11-12 ans de suivre un culte tous les samedis matin à 10h15 via Zoom :\n– https://zoom.us/j/91927823107 – Mot de passe : Enf@nts\n– Zoom ID de réunion : 919 2782 3107 – Mot de passe : Enf@nts\n– Composez un numéro en fonction de votre emplacement :\n+33 7 5678 4048 France\n+33 1 7037 2246 France\n+33 1 7037 9729 France\nID de réunion : 919 2782 3107
URL:https://adventisteffn.org/evenement/culte-des-enfants-via-zoom-14/
CATEGORIES:Ministère Enfants (MAE) et Catéchèse des enfants et jeunes (EDS enfantine)
END:VEVENT
BEGIN:VEVENT
DTSTART;VALUE=DATE:20200828
DTEND;VALUE=DATE:20200829
DTSTAMP:20260422T150038
CREATED:20200128T162259Z
LAST-MODIFIED:20200402T183420Z
UID:28880-1598572800-1598659199@adventisteffn.org
SUMMARY:OUVERTURE DE SABBAT LET'S CELEBRATE
DESCRIPTION:Let’s Celebrate\, un nouveau programme d’ouverture de sabbat !Si tu es seul pour ouvrir ton Sabbat ou que tu as simplement envie d’être avec des personnes qui sont dans la joie de louer le Seigneur\, Let’s celebrate est pour toi !Tous les 4e vendredis du mois\, il y aura une célébration de Sabbat à partir de 18h à la maison de l’Espérance. L’ouverture des portes se fera à 17h30.Au programme : un apéritif\, des louanges et des temps de prière.Tout le monde est convié\, alors n’oublie pas d’inviter tes amis. Venons le célébrer!
URL:https://adventisteffn.org/evenement/ouverture-de-sabbat-lets-celebrate-7/
LOCATION:La Maison de l’Espérance 75005 Paris
CATEGORIES:Jeunesse Adventiste
END:VEVENT
BEGIN:VEVENT
DTSTART;TZID=Europe/Paris:20200828T193000
DTEND;TZID=Europe/Paris:20200828T203000
DTSTAMP:20260422T150038
CREATED:20200824T195628Z
LAST-MODIFIED:20200827T195730Z
UID:34118-1598643000-1598646600@adventisteffn.org
SUMMARY:Let's Celebrate - ouverture de sabbat en live
DESCRIPTION:Let’s Celebrate\, c’est le nouveau programme d’ouverture de sabbat ! \nIl revient sur Zoom vendredi 28 août à 19h30 ! \nPour vous joindre à. cette célébration du sabbat : \n\npar Zoom : https://zoom.us/j/322609101 puis cliquez sur « appeler en utilisant internet »\npar téléphone\, composez le 01 70 37 97 29\, puis tapez le 993-4935-8631##\n\n  \nSi vous êtes seul pour ouvrir le Sabbat ou que vous avez simplement envie d’être avec des personnes qui sont dans la joie de louer le Seigneur\, Let’s celebrate est pour vous ! \nTout le monde est convié\, alors n’oubliez pas d’inviter vos amis. Connectez-vous et venez le célébrer !
URL:https://adventisteffn.org/evenement/lets-celebrate-ouverture-de-sabbat-en-live-5/
CATEGORIES:Jeunesse Adventiste
END:VEVENT
BEGIN:VEVENT
DTSTART;TZID=Europe/Paris:20200829T221500
DTEND;TZID=Europe/Paris:20200829T230000
DTSTAMP:20260422T150038
CREATED:20200521T090610Z
LAST-MODIFIED:20200604T102105Z
UID:32472-1598739300-1598742000@adventisteffn.org
SUMMARY:Culte des enfants via Zoom
DESCRIPTION:Nous proposons aux enfants jusqu’à 11-12 ans de suivre un culte tous les samedis matin à 10h15 via Zoom :\n– https://zoom.us/j/91927823107 – Mot de passe : Enf@nts\n– Zoom ID de réunion : 919 2782 3107 – Mot de passe : Enf@nts\n– Composez un numéro en fonction de votre emplacement :\n+33 7 5678 4048 France\n+33 1 7037 2246 France\n+33 1 7037 9729 France\nID de réunion : 919 2782 3107
URL:https://adventisteffn.org/evenement/culte-des-enfants-via-zoom-15/
CATEGORIES:Ministère Enfants (MAE) et Catéchèse des enfants et jeunes (EDS enfantine)
END:VEVENT
BEGIN:VEVENT
DTSTART;TZID=Europe/Paris:20200830T170000
DTEND;TZID=Europe/Paris:20200830T190000
DTSTAMP:20260422T150038
CREATED:20200825T111333Z
LAST-MODIFIED:20200830T114125Z
UID:34124-1598806800-1598814000@adventisteffn.org
SUMMARY:Équilibre alimentaire et végétarisme/végétalisme
DESCRIPTION:Le département Santé de la Fédération France Nord (FFN)  d’entamer la rentrée en discutant d’équilibre alimentaire ! Trois diététiciennes aborderont la question de « L’équilibre alimentaire et végétarisme/végétalisme » à travers deux conférences.Il sera possible de découvrir en détail les bases de l’équilibre alimentaire. \n  \nDimanche 30 août à 17h :  \n\nDéfinition\nFocus sur les nutriments essentiels\nQuizz\n\n  \nDimanche 06 septembre à 17h :  \n\nPyramide végétarienne\nVitamines et minéraux\nCarences et excès… ATTENTION !\nQuizz\n\n  \nIl serra possible de suivre la conférence via : \n\nYouTube : Youtube.com/AdventisteFFN\nZoom : ID de réunion 956 6514 7077 ou  https://zoom.us/j/95665147077
URL:https://adventisteffn.org/evenement/equilibre-alimentaire-et-vegetarisme-vegetalisme/
CATEGORIES:Santé
END:VEVENT
END:VCALENDAR