BEGIN:VCALENDAR
VERSION:2.0
PRODID:-//Adventiste FFN - ECPv6.15.20//NONSGML v1.0//EN
CALSCALE:GREGORIAN
METHOD:PUBLISH
X-WR-CALNAME:Adventiste FFN
X-ORIGINAL-URL:https://adventisteffn.org
X-WR-CALDESC:Évènements pour Adventiste FFN
REFRESH-INTERVAL;VALUE=DURATION:PT1H
X-Robots-Tag:noindex
X-PUBLISHED-TTL:PT1H
BEGIN:VTIMEZONE
TZID:Europe/Paris
BEGIN:DAYLIGHT
TZOFFSETFROM:+0100
TZOFFSETTO:+0200
TZNAME:CEST
DTSTART:20190331T010000
END:DAYLIGHT
BEGIN:STANDARD
TZOFFSETFROM:+0200
TZOFFSETTO:+0100
TZNAME:CET
DTSTART:20191027T010000
END:STANDARD
BEGIN:DAYLIGHT
TZOFFSETFROM:+0100
TZOFFSETTO:+0200
TZNAME:CEST
DTSTART:20200329T010000
END:DAYLIGHT
BEGIN:STANDARD
TZOFFSETFROM:+0200
TZOFFSETTO:+0100
TZNAME:CET
DTSTART:20201025T010000
END:STANDARD
BEGIN:DAYLIGHT
TZOFFSETFROM:+0100
TZOFFSETTO:+0200
TZNAME:CEST
DTSTART:20210328T010000
END:DAYLIGHT
BEGIN:STANDARD
TZOFFSETFROM:+0200
TZOFFSETTO:+0100
TZNAME:CET
DTSTART:20211031T010000
END:STANDARD
END:VTIMEZONE
BEGIN:VEVENT
DTSTART;VALUE=DATE:20200327
DTEND;VALUE=DATE:20200705
DTSTAMP:20260422T082353
CREATED:20200403T140407Z
LAST-MODIFIED:20200704T102105Z
UID:31083-1585267200-1593907199@adventisteffn.org
SUMMARY:Les 100 jours de prière pour l'Église mondiale et sa mission
DESCRIPTION:Depuis plusieurs mois maintenant\, des plans sont en cours pour une initiative de prière très spéciale appelée 100 jours de prière. Nous pensons que Dieu a orchestré le calendrier des 100 jours de prière bien à l’avance. Cette initiative de prière\, prévue du 27 mars au 4 juillet 2020\, devait à l’origine se concentrer sur la prière pour l’effusion du Saint-Esprit lors de la session 2020 de la Conférence générale à Indianapolis. Cependant\, avec la pandémie de Coronavirus qui balaie notre monde\, et avec les nombreux événements troublants qui se déroulent actuellement\, quel meilleur moment pour faire pression ensemble en tant qu’église dans la prière alors que nous cherchons la force en temps de crise\, ainsi que la puissance du Saint-Esprit pour la mission qui nous attend. \n  \nJe veux vous encourager à participer à cette initiative de prière très spéciale. Bien que la session de la Conférence générale n’aura plus lieu en juin 2020 comme prévu initialement (elle aura maintenant lieu du 20 au 25 mai 2021 au Centre de convention d’Indianapolis – veuillez regarder ANN ou le site web de l’Adventist Review pour des mises à jour sur la session de la Conférence générale)\, nous continuerons à prier pour que le Saint-Esprit se répande sur nos vies\, notre église et nos dirigeants. En outre\, nous prierons également pour toutes les personnes infectées par la COVID-19 ou dont les proches souffrent. Nous prierons pour ceux qui luttent dans l’isolement\, pour la sagesse de nos dirigeants gouvernementaux et pour l’avancement de la mission de notre église en ces temps difficiles.
URL:https://adventisteffn.org/evenement/les-100-jours-de-priere-pour-leglise-mondiale-et-sa-mission/
CATEGORIES:Prière
END:VEVENT
BEGIN:VEVENT
DTSTART;VALUE=DATE:20200329
DTEND;VALUE=DATE:20200405
DTSTAMP:20260422T082353
CREATED:20200403T183407Z
LAST-MODIFIED:20200404T183712Z
UID:31108-1585440000-1586044799@adventisteffn.org
SUMMARY:Semaine de prière JA - On peut tous murir !
DESCRIPTION:Du 29/03 au 04/04 18h\, les départemnts JA ? des 3 fédérations de l’Union Franco-Belge te proposent de suivre une semaine de réflexion ? et de prière ??sur YouTube adventisteffn. Es-tu prêt à grandir\, à mûrir ?
URL:https://adventisteffn.org/evenement/semaine-de-priere-ja-on-peut-tous-murir/
CATEGORIES:Jeunesse Adventiste
END:VEVENT
BEGIN:VEVENT
DTSTART;VALUE=DATE:20200403
DTEND;VALUE=DATE:20200404
DTSTAMP:20260422T082353
CREATED:20200403T183407Z
LAST-MODIFIED:20200403T183407Z
UID:31107-1585872000-1585958399@adventisteffn.org
SUMMARY:Let's Celebrate - ouverture de sabbat en live
DESCRIPTION:Let’s Celebrate\, c’est le nouveau programme d’ouverture de sabbat ! \nIl revient sur Zoom vendredi 03 avril à 18h ! \nPour vous joindre à. cette célébration du sabbat : \n\npar Zoom : https://zoom.us/j/322609101 puis cliquez sur « appeler en utilisant internet »\npar téléphone\, composez le 01 70 37 97 29\, puis tapez le 322-609-101##\n\n  \nSi vous êtes seul pour ouvrir le Sabbat ou que vous avez simplement envie d’être avec des personnes qui sont dans la joie de louer le Seigneur\, Let’s celebrate est pour vous ! \nTout le monde est convié\, alors n’oubliez pas d’inviter vos amis. Connectez-vous et venez le célébrer !
URL:https://adventisteffn.org/evenement/lets-celebrate-ouverture-de-sabbat-en-live/
CATEGORIES:Jeunesse Adventiste
END:VEVENT
BEGIN:VEVENT
DTSTART;TZID=Europe/Paris:20200404T180000
DTEND;TZID=Europe/Paris:20200404T184500
DTSTAMP:20260422T082353
CREATED:20200403T173408Z
LAST-MODIFIED:20200403T173408Z
UID:31091-1586023200-1586025900@adventisteffn.org
SUMMARY:re'SOURCE-toi
DESCRIPTION:Nous sommes confinés\, mais nous restons connectés !re’SOURCE-toi aura lieu tous les samedis soirs de 18h à 18h45 via :? Zoom : https://zoom.us/j/445482479 puis cliquez sur « appeler en utilisant internet » ou par téléphone\, composez le 01 70 37 97 29\, puis tapez le 445-482-479##? YouTube : AdventisteFFN? Site web : https://adventisteffn.org/hopemediaffn
URL:https://adventisteffn.org/evenement/resource-toi/
CATEGORIES:Administration Fédération France Nord
END:VEVENT
BEGIN:VEVENT
DTSTART;TZID=Europe/Paris:20200411T180000
DTEND;TZID=Europe/Paris:20200411T184500
DTSTAMP:20260422T082353
CREATED:20200403T173408Z
LAST-MODIFIED:20200410T173914Z
UID:31092-1586628000-1586630700@adventisteffn.org
SUMMARY:re'SOURCE-toi
DESCRIPTION:Nous sommes confinés\, mais nous restons connectés !re’SOURCE-toi aura lieu tous les samedis soirs de 18h à 18h45 via :? Zoom : https://zoom.us/j/445482479 puis cliquez sur « appeler en utilisant internet » ou par téléphone\, composez le 01 70 37 97 29\, puis tapez le 445-482-479##? YouTube : AdventisteFFN? Site web : https://adventisteffn.org/hopemediaffn
URL:https://adventisteffn.org/evenement/resource-toi-2/
CATEGORIES:Administration Fédération France Nord
END:VEVENT
BEGIN:VEVENT
DTSTART;VALUE=DATE:20200412
DTEND;VALUE=DATE:20200418
DTSTAMP:20260422T082353
CREATED:20200403T183407Z
LAST-MODIFIED:20200417T194521Z
UID:31110-1586649600-1587167999@adventisteffn.org
SUMMARY:Voix des jeunes 2020
DESCRIPTION:
URL:https://adventisteffn.org/evenement/voix-des-jeunes-2020/
CATEGORIES:Jeunesse Adventiste
END:VEVENT
BEGIN:VEVENT
DTSTART;TZID=Europe/Paris:20200412T200000
DTEND;TZID=Europe/Paris:20200412T210000
DTSTAMP:20260422T082353
CREATED:20200409T113718Z
LAST-MODIFIED:20200409T113718Z
UID:31257-1586721600-1586725200@adventisteffn.org
SUMMARY:EDS en live
DESCRIPTION:Dans le cadre du confinement actuel\, la leçon de l’école sera partagée en direct. Vous pouvez rejoindre le live via :? Zoom : https://zoom.us/j/445482479 puis cliquez sur « appeler en utilisant internet » ou par téléphone\, composez le 01 70 37 97 29\, puis tapez le 445-482-479##? YouTube : AdventisteFFN? Notre site web : https://adventisteffn.org/hopemediaffnPar la suite\, les vidéos seront disponibles en rediffusion.
URL:https://adventisteffn.org/evenement/eds-en-live/
LOCATION:Diffusion live
CATEGORIES:Catéchèse Adulte
END:VEVENT
BEGIN:VEVENT
DTSTART;VALUE=DATE:20200418
DTEND;VALUE=DATE:20200419
DTSTAMP:20260422T082353
CREATED:20200403T183407Z
LAST-MODIFIED:20200418T195122Z
UID:31109-1587168000-1587254399@adventisteffn.org
SUMMARY:Clôture Voix des Jeunes
DESCRIPTION:
URL:https://adventisteffn.org/evenement/cloture-voix-des-jeunes/
CATEGORIES:Jeunesse Adventiste
END:VEVENT
BEGIN:VEVENT
DTSTART;TZID=Europe/Paris:20200418T180000
DTEND;TZID=Europe/Paris:20200418T184500
DTSTAMP:20260422T082353
CREATED:20200403T173408Z
LAST-MODIFIED:20200417T181521Z
UID:31093-1587232800-1587235500@adventisteffn.org
SUMMARY:re'SOURCE-toi
DESCRIPTION:Nous sommes confinés\, mais nous restons connectés !re’SOURCE-toi aura lieu tous les samedis soirs de 18h à 18h45 via :? Zoom : https://zoom.us/j/445482479 puis cliquez sur « appeler en utilisant internet » ou par téléphone\, composez le 01 70 37 97 29\, puis tapez le 445-482-479##? YouTube : AdventisteFFN? Site web : https://adventisteffn.org/hopemediaffn
URL:https://adventisteffn.org/evenement/resource-toi-3/
CATEGORIES:Administration Fédération France Nord
END:VEVENT
BEGIN:VEVENT
DTSTART;TZID=Europe/Paris:20200419T190000
DTEND;TZID=Europe/Paris:20200419T200000
DTSTAMP:20260422T082353
CREATED:20200416T114518Z
LAST-MODIFIED:20200416T114518Z
UID:31441-1587322800-1587326400@adventisteffn.org
SUMMARY:EDS en live
DESCRIPTION:Dans le cadre du confinement actuel\, la leçon de l’école sera partagée en direct. Vous pouvez rejoindre le live via :? Zoom : https://zoom.us/j/445482479 puis cliquez sur « appeler en utilisant internet » ou par téléphone\, composez le 01 70 37 97 29\, puis tapez le 445-482-479##? YouTube : AdventisteFFN? Notre site web : https://adventisteffn.org/hopemediaffnPar la suite\, les vidéos seront disponibles en rediffusion.
URL:https://adventisteffn.org/evenement/eds-en-live-5/
LOCATION:Diffusion live
CATEGORIES:Catéchèse Adulte
END:VEVENT
BEGIN:VEVENT
DTSTART;TZID=Europe/Paris:20200419T200000
DTEND;TZID=Europe/Paris:20200419T210000
DTSTAMP:20260422T082353
CREATED:20200409T113718Z
LAST-MODIFIED:20200409T113718Z
UID:31258-1587326400-1587330000@adventisteffn.org
SUMMARY:EDS en live
DESCRIPTION:Dans le cadre du confinement actuel\, la leçon de l’école sera partagée en direct. Vous pouvez rejoindre le live via :? Zoom : https://zoom.us/j/445482479 puis cliquez sur « appeler en utilisant internet » ou par téléphone\, composez le 01 70 37 97 29\, puis tapez le 445-482-479##? YouTube : AdventisteFFN? Notre site web : https://adventisteffn.org/hopemediaffnPar la suite\, les vidéos seront disponibles en rediffusion.
URL:https://adventisteffn.org/evenement/eds-en-live-2/
LOCATION:Diffusion live
CATEGORIES:Catéchèse Adulte
END:VEVENT
BEGIN:VEVENT
DTSTART;VALUE=DATE:20200421
DTEND;VALUE=DATE:20200422
DTSTAMP:20260422T082353
CREATED:20200403T140407Z
LAST-MODIFIED:20200421T145114Z
UID:31082-1587427200-1587513599@adventisteffn.org
SUMMARY:Réunion de prière fédérale via Zoom
DESCRIPTION:
URL:https://adventisteffn.org/evenement/reunion-de-priere-federale-via-zoom/
CATEGORIES:Prière
END:VEVENT
BEGIN:VEVENT
DTSTART;VALUE=DATE:20200424
DTEND;VALUE=DATE:20200425
DTSTAMP:20260422T082353
CREATED:20200128T162259Z
LAST-MODIFIED:20200402T183420Z
UID:28872-1587686400-1587772799@adventisteffn.org
SUMMARY:OUVERTURE DE SABBAT LET'S CELEBRATE
DESCRIPTION:Let’s Celebrate\, un nouveau programme d’ouverture de sabbat !Si tu es seul pour ouvrir ton Sabbat ou que tu as simplement envie d’être avec des personnes qui sont dans la joie de louer le Seigneur\, Let’s celebrate est pour toi !Tous les 4e vendredis du mois\, il y aura une célébration de Sabbat à partir de 18h à la maison de l’Espérance. L’ouverture des portes se fera à 17h30.Au programme : un apéritif\, des louanges et des temps de prière.Tout le monde est convié\, alors n’oublie pas d’inviter tes amis. Venons le célébrer!
URL:https://adventisteffn.org/evenement/ouverture-de-sabbat-lets-celebrate-3/
LOCATION:La Maison de l’Espérance 75005 Paris
CATEGORIES:Jeunesse Adventiste
END:VEVENT
BEGIN:VEVENT
DTSTART;VALUE=DATE:20200424
DTEND;VALUE=DATE:20200429
DTSTAMP:20260422T082353
CREATED:20200130T103818Z
LAST-MODIFIED:20200402T104905Z
UID:29002-1587686400-1588118399@adventisteffn.org
SUMMARY:GAiN EUROPE
DESCRIPTION:GAiN Europe\, c’est l’évènement réunissant les communicants de la division intereuropéenne. \nNous sommes ravis de vous informer que GAiN Europe 2020 aura lieu à Bucarest\, en Roumanie\, du 24 au 28 avril.Nous avons travaillé dur pour maintenir le coût le plus bas possible tout en vous offrant un bon niveau d’hébergement\, la pension complète et un programme de culte passionnant\, des ateliers\, des séances plénières et le lancement de notre dernier projet de réseau « UnCertainty ».Le coût complet pour 4 jours\, y compris : l’inscription\, l’hébergement\, trois repas par jour (sous forme de buffet) et la pause-rafraîchissement\, est de :a. chambre simple 345€ avant le 15 janvier 2020; 390€ après le 15 janvier 2020b. chambre double (à partager) 265€ avant le 15 janvier 2020\, 310 € après le 15 janvier 2020.c. inscription et repas uniquement : 190 €d. inscription uniquement : 63 €Navette aéroport en supplément.Organisez votre vol pour l’aéroport international Bucarest-Henry Coanda Otopeni.Le programme commence par le dîner du vendredi 24 avril et se termine le lundi soir avec un départ le mardi 28 avril après le petit-déjeuner.Inscriptions et informations : https://www.adventcom.eu
URL:https://adventisteffn.org/evenement/gain-europe/
LOCATION:Bucarest\, Roumanie
CATEGORIES:Communication
END:VEVENT
BEGIN:VEVENT
DTSTART;VALUE=DATE:20200424
DTEND;VALUE=DATE:20200425
DTSTAMP:20260422T082353
CREATED:20200403T183407Z
LAST-MODIFIED:20200424T202114Z
UID:31111-1587686400-1587772799@adventisteffn.org
SUMMARY:Let's Celebrate - ouverture de sabbat en live
DESCRIPTION:Let’s Celebrate\, c’est le nouveau programme d’ouverture de sabbat ! \nIl revient sur Zoom vendredi 24 avril à 18h ! \nPour vous joindre à. cette célébration du sabbat : \n\npar Zoom : https://zoom.us/j/322609101 puis cliquez sur « appeler en utilisant internet »\npar téléphone\, composez le 01 70 37 97 29\, puis tapez le 322-609-101##\n\n  \nSi vous êtes seul pour ouvrir le Sabbat ou que vous avez simplement envie d’être avec des personnes qui sont dans la joie de louer le Seigneur\, Let’s celebrate est pour vous ! \nTout le monde est convié\, alors n’oubliez pas d’inviter vos amis. Connectez-vous et venez le célébrer !
URL:https://adventisteffn.org/evenement/lets-celebrate-ouverture-de-sabbat-en-live-2/
CATEGORIES:Jeunesse Adventiste
END:VEVENT
BEGIN:VEVENT
DTSTART;TZID=Europe/Paris:20200425T180000
DTEND;TZID=Europe/Paris:20200425T184500
DTSTAMP:20260422T082353
CREATED:20200403T173408Z
LAST-MODIFIED:20200424T182117Z
UID:31094-1587837600-1587840300@adventisteffn.org
SUMMARY:re'SOURCE-toi
DESCRIPTION:Nous sommes confinés\, mais nous restons connectés !re’SOURCE-toi aura lieu tous les samedis soirs de 18h à 18h45 via :? Zoom : https://zoom.us/j/445482479 puis cliquez sur « appeler en utilisant internet » ou par téléphone\, composez le 01 70 37 97 29\, puis tapez le 445-482-479##? YouTube : AdventisteFFN? Site web : https://adventisteffn.org/hopemediaffn
URL:https://adventisteffn.org/evenement/resource-toi-4/
CATEGORIES:Administration Fédération France Nord
END:VEVENT
BEGIN:VEVENT
DTSTART;TZID=Europe/Paris:20200426T180000
DTEND;TZID=Europe/Paris:20200426T184500
DTSTAMP:20260422T082353
CREATED:20200423T115117Z
LAST-MODIFIED:20200423T115117Z
UID:31785-1587924000-1587926700@adventisteffn.org
SUMMARY:EDS en live
DESCRIPTION:Dans le cadre du confinement actuel\, la leçon de l’école sera partagée en direct. Vous pouvez rejoindre le live via :? Zoom : https://zoom.us/j/445482479 puis cliquez sur « appeler en utilisant internet » ou par téléphone\, composez le 01 70 37 97 29\, puis tapez le 445-482-479##? YouTube : AdventisteFFN? Notre site web : https://adventisteffn.org/hopemediaffnPar la suite\, les vidéos seront disponibles en rediffusion.
URL:https://adventisteffn.org/evenement/eds-en-live-8/
LOCATION:Diffusion live
CATEGORIES:Catéchèse Adulte
END:VEVENT
BEGIN:VEVENT
DTSTART;TZID=Europe/Paris:20200426T190000
DTEND;TZID=Europe/Paris:20200426T200000
DTSTAMP:20260422T082353
CREATED:20200416T114518Z
LAST-MODIFIED:20200416T114518Z
UID:31442-1587927600-1587931200@adventisteffn.org
SUMMARY:EDS en live
DESCRIPTION:Dans le cadre du confinement actuel\, la leçon de l’école sera partagée en direct. Vous pouvez rejoindre le live via :? Zoom : https://zoom.us/j/445482479 puis cliquez sur « appeler en utilisant internet » ou par téléphone\, composez le 01 70 37 97 29\, puis tapez le 445-482-479##? YouTube : AdventisteFFN? Notre site web : https://adventisteffn.org/hopemediaffnPar la suite\, les vidéos seront disponibles en rediffusion.
URL:https://adventisteffn.org/evenement/eds-en-live-6/
LOCATION:Diffusion live
CATEGORIES:Catéchèse Adulte
END:VEVENT
BEGIN:VEVENT
DTSTART;TZID=Europe/Paris:20200426T200000
DTEND;TZID=Europe/Paris:20200426T210000
DTSTAMP:20260422T082353
CREATED:20200409T113718Z
LAST-MODIFIED:20200409T113718Z
UID:31259-1587931200-1587934800@adventisteffn.org
SUMMARY:EDS en live
DESCRIPTION:Dans le cadre du confinement actuel\, la leçon de l’école sera partagée en direct. Vous pouvez rejoindre le live via :? Zoom : https://zoom.us/j/445482479 puis cliquez sur « appeler en utilisant internet » ou par téléphone\, composez le 01 70 37 97 29\, puis tapez le 445-482-479##? YouTube : AdventisteFFN? Notre site web : https://adventisteffn.org/hopemediaffnPar la suite\, les vidéos seront disponibles en rediffusion.
URL:https://adventisteffn.org/evenement/eds-en-live-3/
LOCATION:Diffusion live
CATEGORIES:Catéchèse Adulte
END:VEVENT
END:VCALENDAR