BEGIN:VCALENDAR
VERSION:2.0
PRODID:-//Adventiste FFN - ECPv6.15.20//NONSGML v1.0//EN
CALSCALE:GREGORIAN
METHOD:PUBLISH
X-WR-CALNAME:Adventiste FFN
X-ORIGINAL-URL:https://adventisteffn.org
X-WR-CALDESC:Évènements pour Adventiste FFN
REFRESH-INTERVAL;VALUE=DURATION:PT1H
X-Robots-Tag:noindex
X-PUBLISHED-TTL:PT1H
BEGIN:VTIMEZONE
TZID:Europe/Paris
BEGIN:DAYLIGHT
TZOFFSETFROM:+0100
TZOFFSETTO:+0200
TZNAME:CEST
DTSTART:20190331T010000
END:DAYLIGHT
BEGIN:STANDARD
TZOFFSETFROM:+0200
TZOFFSETTO:+0100
TZNAME:CET
DTSTART:20191027T010000
END:STANDARD
BEGIN:DAYLIGHT
TZOFFSETFROM:+0100
TZOFFSETTO:+0200
TZNAME:CEST
DTSTART:20200329T010000
END:DAYLIGHT
BEGIN:STANDARD
TZOFFSETFROM:+0200
TZOFFSETTO:+0100
TZNAME:CET
DTSTART:20201025T010000
END:STANDARD
BEGIN:DAYLIGHT
TZOFFSETFROM:+0100
TZOFFSETTO:+0200
TZNAME:CEST
DTSTART:20210328T010000
END:DAYLIGHT
BEGIN:STANDARD
TZOFFSETFROM:+0200
TZOFFSETTO:+0100
TZNAME:CET
DTSTART:20211031T010000
END:STANDARD
END:VTIMEZONE
BEGIN:VEVENT
DTSTART;VALUE=DATE:20200228
DTEND;VALUE=DATE:20200302
DTSTAMP:20260422T063728
CREATED:20200130T103818Z
LAST-MODIFIED:20200227T103806Z
UID:29000-1582848000-1583107199@adventisteffn.org
SUMMARY:RAC #2 : WEEK-END DE FORMATION DES COMMUNICANTS DE LA FFN
DESCRIPTION:Le Pôle Média Communication de la Fédération France Nord a le plaisir de vous annoncer la 2ème édition de la RAC (Rencontre Annuelle des Communicants).Elle aura lieu du vendredi 28 février au 1er mars 2020 au Domaine de Chalès à Nouan le Fuzelier. Elle s’adresse aux Responsables de Communication des églises locales de la fédération ainsi qu’à leurs équipes. Le week‐end est également ouvert aux créateurs de contenu et communicants adventistes\, qui ont pour objectif d’utiliser les moyens de communication actuels afin de communiquer au monde l’Espérance qui est la nôtre. \n– Inscriptions : assistantedir.ffn@adventiste.org \n– Questionnaire : faites-nous part de vos attentes pour ce week-end via ce questionnaire. \nAu plaisir de revoir ceux de l’année dernière et de rencontrer de nouveaux communicants.
URL:https://adventisteffn.org/evenement/rac-2-week-end-de-formation-des-communicants-de-la-ffn/
LOCATION:Domaine de Chalès\, route de saint viatre Départementale 93\, 41600 Nouan-le-Fuzelier\, France
CATEGORIES:Communication
END:VEVENT
BEGIN:VEVENT
DTSTART;VALUE=DATE:20200327
DTEND;VALUE=DATE:20200328
DTSTAMP:20260422T063728
CREATED:20200128T162259Z
LAST-MODIFIED:20200327T181923Z
UID:28870-1585267200-1585353599@adventisteffn.org
SUMMARY:OUVERTURE DE SABBAT LET'S CELEBRATE
DESCRIPTION:Let’s Celebrate\, un nouveau programme d’ouverture de sabbat !Si tu es seul pour ouvrir ton Sabbat ou que tu as simplement envie d’être avec des personnes qui sont dans la joie de louer le Seigneur\, Let’s celebrate est pour toi !Tous les 4e vendredis du mois\, il y aura une célébration de Sabbat à partir de 18h à la maison de l’Espérance. L’ouverture des portes se fera à 17h30.Au programme : un apéritif\, des louanges et des temps de prière.Tout le monde est convié\, alors n’oublie pas d’inviter tes amis. Venons le célébrer!
URL:https://adventisteffn.org/evenement/ouverture-de-sabbat-lets-celebrate-2/
LOCATION:La Maison de l’Espérance 75005 Paris
CATEGORIES:Jeunesse Adventiste
END:VEVENT
BEGIN:VEVENT
DTSTART;VALUE=DATE:20200327
DTEND;VALUE=DATE:20200705
DTSTAMP:20260422T063728
CREATED:20200403T140407Z
LAST-MODIFIED:20200704T102105Z
UID:31083-1585267200-1593907199@adventisteffn.org
SUMMARY:Les 100 jours de prière pour l'Église mondiale et sa mission
DESCRIPTION:Depuis plusieurs mois maintenant\, des plans sont en cours pour une initiative de prière très spéciale appelée 100 jours de prière. Nous pensons que Dieu a orchestré le calendrier des 100 jours de prière bien à l’avance. Cette initiative de prière\, prévue du 27 mars au 4 juillet 2020\, devait à l’origine se concentrer sur la prière pour l’effusion du Saint-Esprit lors de la session 2020 de la Conférence générale à Indianapolis. Cependant\, avec la pandémie de Coronavirus qui balaie notre monde\, et avec les nombreux événements troublants qui se déroulent actuellement\, quel meilleur moment pour faire pression ensemble en tant qu’église dans la prière alors que nous cherchons la force en temps de crise\, ainsi que la puissance du Saint-Esprit pour la mission qui nous attend. \n  \nJe veux vous encourager à participer à cette initiative de prière très spéciale. Bien que la session de la Conférence générale n’aura plus lieu en juin 2020 comme prévu initialement (elle aura maintenant lieu du 20 au 25 mai 2021 au Centre de convention d’Indianapolis – veuillez regarder ANN ou le site web de l’Adventist Review pour des mises à jour sur la session de la Conférence générale)\, nous continuerons à prier pour que le Saint-Esprit se répande sur nos vies\, notre église et nos dirigeants. En outre\, nous prierons également pour toutes les personnes infectées par la COVID-19 ou dont les proches souffrent. Nous prierons pour ceux qui luttent dans l’isolement\, pour la sagesse de nos dirigeants gouvernementaux et pour l’avancement de la mission de notre église en ces temps difficiles.
URL:https://adventisteffn.org/evenement/les-100-jours-de-priere-pour-leglise-mondiale-et-sa-mission/
CATEGORIES:Prière
END:VEVENT
BEGIN:VEVENT
DTSTART;VALUE=DATE:20200328
DTEND;VALUE=DATE:20200329
DTSTAMP:20260422T063728
CREATED:20200128T170813Z
LAST-MODIFIED:20200328T181910Z
UID:28921-1585353600-1585439999@adventisteffn.org
SUMMARY:HOPE SIGNES
DESCRIPTION:Le programme Hope-Signes c’est quoi? Un programme en forme de Table Ronde présenté par des sourds et accessible aux entendants. Ce programme est aussi présenté comme un plateau de télé et enregistré pour être diffusé plus tard. Chaque programme sera précédé et conclu par un temps de prière et d’adoration adapté pour les sourds (engagés et non encore engagés) du public présent. Puis la Table Ronde sera présentée dans les conditions d’une émission en direct enregistrée par une équipe de bénévoles sous la conduite de l’équipe fédérale de Communication en Collaboration avec AWR\, en vue d’être utilisée en différé. Ce programme\, sans doute modeste à ses débuts\, a néanmoins un objectif important pour lequel je voudrais vous inviter tous à prier et à nous soutenir du mieux que vous pourrez. Son objectif vise à mettre les bases d’un groupe appelé peut-être à devenir un jour une église pour les sourds sur Paris. Car vous l’avez compris\, ce programme est une adaptation d’un service de culte d’évangélisation accessible aux sourds (SDA & non SDA).  Alors merci pour votre soutien et la promotion de ce programme\, malgré le temps court. Naturellement vous êtes tous les bienvenus\, en vue même si vous le voulez-bien\, de devenir acteurs aussi dans ce programme. Les prochaines dates du programme sont les suivantes : \n\nSamedi 25 janvier 2020 à 16h30\nSamedi 22 février 2020 à 16h30\nSamedi 28 mars 2020 à 16h30
URL:https://adventisteffn.org/evenement/hope-signes-2/
LOCATION:Maison de l’Espérance\, 13 Rue Gracieuse\, 75005 Paris\, France
CATEGORIES:MINISTERE AUPRES des SOURDS
END:VEVENT
BEGIN:VEVENT
DTSTART;VALUE=DATE:20200328
DTEND;VALUE=DATE:20200330
DTSTAMP:20260422T063728
CREATED:20200130T110757Z
LAST-MODIFIED:20200326T113549Z
UID:29006-1585353600-1585526399@adventisteffn.org
SUMMARY:SÉMINAIRE ÉDUCATION ET AUTORITÉ
DESCRIPTION:
URL:https://adventisteffn.org/evenement/seminaire-education-et-autorite/
LOCATION:CENTRE INTERNATIONAL LE ROCHETON – RUE DE LA FORÊT 77000 LA ROCHETTE
CATEGORIES:Education
END:VEVENT
BEGIN:VEVENT
DTSTART;VALUE=DATE:20200329
DTEND;VALUE=DATE:20200405
DTSTAMP:20260422T063728
CREATED:20200403T183407Z
LAST-MODIFIED:20200404T183712Z
UID:31108-1585440000-1586044799@adventisteffn.org
SUMMARY:Semaine de prière JA - On peut tous murir !
DESCRIPTION:Du 29/03 au 04/04 18h\, les départemnts JA ? des 3 fédérations de l’Union Franco-Belge te proposent de suivre une semaine de réflexion ? et de prière ??sur YouTube adventisteffn. Es-tu prêt à grandir\, à mûrir ?
URL:https://adventisteffn.org/evenement/semaine-de-priere-ja-on-peut-tous-murir/
CATEGORIES:Jeunesse Adventiste
END:VEVENT
END:VCALENDAR