BEGIN:VCALENDAR
VERSION:2.0
PRODID:-//Adventiste FFN - ECPv6.15.20//NONSGML v1.0//EN
CALSCALE:GREGORIAN
METHOD:PUBLISH
X-ORIGINAL-URL:https://adventisteffn.org
X-WR-CALDESC:Évènements pour Adventiste FFN
REFRESH-INTERVAL;VALUE=DURATION:PT1H
X-Robots-Tag:noindex
X-PUBLISHED-TTL:PT1H
BEGIN:VTIMEZONE
TZID:Europe/Paris
BEGIN:DAYLIGHT
TZOFFSETFROM:+0100
TZOFFSETTO:+0200
TZNAME:CEST
DTSTART:20180325T010000
END:DAYLIGHT
BEGIN:STANDARD
TZOFFSETFROM:+0200
TZOFFSETTO:+0100
TZNAME:CET
DTSTART:20181028T010000
END:STANDARD
BEGIN:DAYLIGHT
TZOFFSETFROM:+0100
TZOFFSETTO:+0200
TZNAME:CEST
DTSTART:20190331T010000
END:DAYLIGHT
BEGIN:STANDARD
TZOFFSETFROM:+0200
TZOFFSETTO:+0100
TZNAME:CET
DTSTART:20191027T010000
END:STANDARD
BEGIN:DAYLIGHT
TZOFFSETFROM:+0100
TZOFFSETTO:+0200
TZNAME:CEST
DTSTART:20200329T010000
END:DAYLIGHT
BEGIN:STANDARD
TZOFFSETFROM:+0200
TZOFFSETTO:+0100
TZNAME:CET
DTSTART:20201025T010000
END:STANDARD
END:VTIMEZONE
BEGIN:VEVENT
DTSTART;VALUE=DATE:20191005
DTEND;VALUE=DATE:20191006
DTSTAMP:20260422T012557
CREATED:20190327T150219Z
LAST-MODIFIED:20191002T165218Z
UID:21777-1570233600-1570319999@adventisteffn.org
SUMMARY:4ème journée de jeûne et de prière mondiale
DESCRIPTION:
URL:https://adventisteffn.org/evenement/4eme-journee-de-jeune-et-de-priere-mondiale/
CATEGORIES:Division Inter-Européenne et Conférence Générale
END:VEVENT
BEGIN:VEVENT
DTSTART;VALUE=DATE:20191006
DTEND;VALUE=DATE:20191010
DTSTAMP:20260422T012557
CREATED:20190327T151816Z
LAST-MODIFIED:20191009T233628Z
UID:21827-1570320000-1570665599@adventisteffn.org
SUMMARY:Convention pastorale
DESCRIPTION:Plus d’informations: \nResponsable: Elioenay RAJAONAHContact: pastoral.ffn@adventiste.org
URL:https://adventisteffn.org/evenement/convention-pastorale/
CATEGORIES:Association Pastorale
END:VEVENT
BEGIN:VEVENT
DTSTART;VALUE=DATE:20191013
DTEND;VALUE=DATE:20191014
DTSTAMP:20260422T012557
CREATED:20190327T145640Z
LAST-MODIFIED:20191013T225207Z
UID:21747-1570924800-1571011199@adventisteffn.org
SUMMARY:Ma vie Fédérale
DESCRIPTION:
URL:https://adventisteffn.org/evenement/ma-vie-federale-2/
LOCATION:Eglise Adventiste du Septieme Jour de Bagnolet\, 142 Avenue Gambetta\, 93170 Bagnolet\, France
CATEGORIES:Administration Fédération France Nord
END:VEVENT
BEGIN:VEVENT
DTSTART;VALUE=DATE:20191019
DTEND;VALUE=DATE:20191020
DTSTAMP:20260422T012557
CREATED:20190327T150040Z
LAST-MODIFIED:20191016T182154Z
UID:21762-1571443200-1571529599@adventisteffn.org
SUMMARY:Journée Église en étude
DESCRIPTION:
URL:https://adventisteffn.org/evenement/journee-eglise-en-etude-3/
CATEGORIES:Catéchèse Adulte
END:VEVENT
BEGIN:VEVENT
DTSTART;VALUE=DATE:20191020
DTEND;VALUE=DATE:20191021
DTSTAMP:20260422T012557
CREATED:20190327T151327Z
LAST-MODIFIED:20191020T183653Z
UID:21813-1571529600-1571615999@adventisteffn.org
SUMMARY:Atelier bien être
DESCRIPTION:Plus d’informations: \nResponsable: Enide CADASSEContact: mifem.ffn@adventiste.org
URL:https://adventisteffn.org/evenement/atelier-bien-etre/
LOCATION:Paris\, France
CATEGORIES:MIFEM - Ministère auprès des Femmes
END:VEVENT
BEGIN:VEVENT
DTSTART;VALUE=DATE:20191026
DTEND;VALUE=DATE:20191027
DTSTAMP:20260422T012557
CREATED:20190327T155057Z
LAST-MODIFIED:20191026T002130Z
UID:21856-1572048000-1572134399@adventisteffn.org
SUMMARY:Nuit de prière et de louange Fédérale
DESCRIPTION:
URL:https://adventisteffn.org/evenement/nuit-de-priere-et-de-louange-federale/
LOCATION:Eglise Adventiste du 7ème Jour d’Evry\, 2 Allée du Père Duchêne\, 91000 Évry\, France
CATEGORIES:Prière
END:VEVENT
END:VCALENDAR