BEGIN:VCALENDAR
VERSION:2.0
PRODID:-//Adventiste FFN - ECPv6.15.20//NONSGML v1.0//EN
CALSCALE:GREGORIAN
METHOD:PUBLISH
X-WR-CALNAME:Adventiste FFN
X-ORIGINAL-URL:https://adventisteffn.org
X-WR-CALDESC:Évènements pour Adventiste FFN
REFRESH-INTERVAL;VALUE=DURATION:PT1H
X-Robots-Tag:noindex
X-PUBLISHED-TTL:PT1H
BEGIN:VTIMEZONE
TZID:Europe/Paris
BEGIN:DAYLIGHT
TZOFFSETFROM:+0100
TZOFFSETTO:+0200
TZNAME:CEST
DTSTART:20180325T010000
END:DAYLIGHT
BEGIN:STANDARD
TZOFFSETFROM:+0200
TZOFFSETTO:+0100
TZNAME:CET
DTSTART:20181028T010000
END:STANDARD
BEGIN:DAYLIGHT
TZOFFSETFROM:+0100
TZOFFSETTO:+0200
TZNAME:CEST
DTSTART:20190331T010000
END:DAYLIGHT
BEGIN:STANDARD
TZOFFSETFROM:+0200
TZOFFSETTO:+0100
TZNAME:CET
DTSTART:20191027T010000
END:STANDARD
BEGIN:DAYLIGHT
TZOFFSETFROM:+0100
TZOFFSETTO:+0200
TZNAME:CEST
DTSTART:20200329T010000
END:DAYLIGHT
BEGIN:STANDARD
TZOFFSETFROM:+0200
TZOFFSETTO:+0100
TZNAME:CET
DTSTART:20201025T010000
END:STANDARD
END:VTIMEZONE
BEGIN:VEVENT
DTSTART;VALUE=DATE:20190316
DTEND;VALUE=DATE:20190617
DTSTAMP:20260422T080904
CREATED:20190327T150406Z
LAST-MODIFIED:20190330T172303Z
UID:21783-1552694400-1560729599@adventisteffn.org
SUMMARY:Campagnes d’évangélisation ESPÉRANCE 2019
DESCRIPTION:Plus d’informations: \nResponsable: Gérard PÉROUMALContact: evangelisation.ffn@adventiste.org
URL:https://adventisteffn.org/evenement/campagnes-devangelisation-esperance-2019/
CATEGORIES:Evangélisation
END:VEVENT
BEGIN:VEVENT
DTSTART;VALUE=DATE:20190501
DTEND;VALUE=DATE:20190602
DTSTAMP:20260422T080904
CREATED:20190327T151202Z
LAST-MODIFIED:20190530T184731Z
UID:21796-1556668800-1559433599@adventisteffn.org
SUMMARY:Évaluations pour les investitures JA
DESCRIPTION:Plus d’informations: \nResponsable: Stéphane EUCHARISContact: jeunesse.ffn@adventiste.org
URL:https://adventisteffn.org/evenement/evaluations-pour-les-investitures-ja/
CATEGORIES:Jeunesse Adventiste
END:VEVENT
BEGIN:VEVENT
DTSTART;VALUE=DATE:20190601
DTEND;VALUE=DATE:20190702
DTSTAMP:20260422T080904
CREATED:20190327T151202Z
LAST-MODIFIED:20190629T205158Z
UID:21797-1559347200-1562025599@adventisteffn.org
SUMMARY:Investitures Jeunesse JA (qualifications - spécialisations)
DESCRIPTION:Plus d’informations: \nResponsable: Stéphane EUCHARISContact: jeunesse.ffn@adventiste.orgInstagram: stephane.eucharis.ja
URL:https://adventisteffn.org/evenement/investitures-jeunesse-ja-qualifications-specialisations/
CATEGORIES:Jeunesse Adventiste
END:VEVENT
BEGIN:VEVENT
DTSTART;VALUE=DATE:20190602
DTEND;VALUE=DATE:20190603
DTSTAMP:20260422T080904
CREATED:20190327T150040Z
LAST-MODIFIED:20190529T173603Z
UID:21758-1559433600-1559519999@adventisteffn.org
SUMMARY:Formation responsables et adjoints
DESCRIPTION:Plus d’informations: \nResponsable: Christiane LOUISContact: catecheseadultes.ffn@adventiste.org
URL:https://adventisteffn.org/evenement/formation-responsables-et-adjoints-2/
CATEGORIES:Catéchèse Adulte
END:VEVENT
BEGIN:VEVENT
DTSTART;VALUE=DATE:20190606
DTEND;VALUE=DATE:20190610
DTSTAMP:20260422T080904
CREATED:20190327T151816Z
LAST-MODIFIED:20190609T185130Z
UID:21826-1559779200-1560124799@adventisteffn.org
SUMMARY:Week-end de clôture Faculté Adventiste de Théologie
DESCRIPTION:
URL:https://adventisteffn.org/evenement/week-end-de-cloture-faculte-adventiste-de-theologie/
LOCATION:Collonges-sous-Salève\, 74160 Collonges-sous-Salève\, France
CATEGORIES:Association Pastorale
END:VEVENT
BEGIN:VEVENT
DTSTART;VALUE=DATE:20190607
DTEND;VALUE=DATE:20190611
DTSTAMP:20260422T080904
CREATED:20190327T151202Z
LAST-MODIFIED:20190610T190628Z
UID:21798-1559865600-1560211199@adventisteffn.org
SUMMARY:Rallyes de Pentecôte
DESCRIPTION:Plus d’informations: \nResponsable: Stéphane EUCHARIS\nContact: jeunesse.ffn@adventiste.org\nInstagram: stephane.eucharis.ja
URL:https://adventisteffn.org/evenement/rallyes-de-pentecote/
CATEGORIES:Jeunesse Adventiste
END:VEVENT
BEGIN:VEVENT
DTSTART;VALUE=DATE:20190608
DTEND;VALUE=DATE:20190609
DTSTAMP:20260422T080904
CREATED:20190327T150040Z
LAST-MODIFIED:20190605T173637Z
UID:21759-1559952000-1560038399@adventisteffn.org
SUMMARY:Sabbat des invités
DESCRIPTION:Plus d’information: \nResponsable: Christiane LOUISContact: catecheseadultes.ffn@adventiste.org
URL:https://adventisteffn.org/evenement/sabbat-des-invites-2/
CATEGORIES:Catéchèse Adulte
END:VEVENT
BEGIN:VEVENT
DTSTART;VALUE=DATE:20190608
DTEND;VALUE=DATE:20190611
DTSTAMP:20260422T080904
CREATED:20190327T155251Z
LAST-MODIFIED:20190610T170639Z
UID:21870-1559952000-1560211199@adventisteffn.org
SUMMARY:Assemblée générale Fédération Belgo-luxembourgeoise
DESCRIPTION:
URL:https://adventisteffn.org/evenement/assemblee-generale-federation-belgo-luxembourgeoise/
LOCATION:Bruxelles\, Belgique
CATEGORIES:Union Franco-Belge
END:VEVENT
BEGIN:VEVENT
DTSTART;VALUE=DATE:20190609
DTEND;VALUE=DATE:20190610
DTSTAMP:20260422T080904
CREATED:20190327T151327Z
LAST-MODIFIED:20190609T183808Z
UID:21815-1560038400-1560124799@adventisteffn.org
SUMMARY:Journée du Ministère des Femmes
DESCRIPTION:Plus d’informations: \nResponsable: Enide CADASSEContact: mifem.ffn@adventiste.org
URL:https://adventisteffn.org/evenement/journee-du-ministere-des-femmes/
CATEGORIES:MIFEM - Ministère auprès des Femmes
END:VEVENT
BEGIN:VEVENT
DTSTART;VALUE=DATE:20190614
DTEND;VALUE=DATE:20190617
DTSTAMP:20260422T080904
CREATED:20190327T145929Z
LAST-MODIFIED:20190612T165134Z
UID:21752-1560470400-1560729599@adventisteffn.org
SUMMARY:Assemblée générale ADRA
DESCRIPTION:
URL:https://adventisteffn.org/evenement/assemblee-generale-adra/
CATEGORIES:ADRA - Actions humanitaires adventistes
END:VEVENT
BEGIN:VEVENT
DTSTART;VALUE=DATE:20190615
DTEND;VALUE=DATE:20190616
DTSTAMP:20260422T080904
CREATED:20190327T145640Z
LAST-MODIFIED:20190615T180651Z
UID:21742-1560556800-1560643199@adventisteffn.org
SUMMARY:Assemblée spirituelle fédérale "Fin de la campagne ESPÉRANCE 2019"
DESCRIPTION:
URL:https://adventisteffn.org/evenement/assemblee-spirituelle-federale-fin-de-la-campagne-esperance-2019/
LOCATION:Parc des Expositions de Dreux\, 1 Impasse de la Commune\, 28100 Dreux\, France
CATEGORIES:Administration Fédération France Nord
END:VEVENT
BEGIN:VEVENT
DTSTART;VALUE=DATE:20190623
DTEND;VALUE=DATE:20190624
DTSTAMP:20260422T080904
CREATED:20190327T145640Z
LAST-MODIFIED:20190623T183637Z
UID:21743-1561248000-1561334399@adventisteffn.org
SUMMARY:Conseils d’administration FFN/FACSA
DESCRIPTION:
URL:https://adventisteffn.org/evenement/conseils-dadministration-ffn-facsa-2/
LOCATION:Paris\, France
CATEGORIES:Administration Fédération France Nord
END:VEVENT
BEGIN:VEVENT
DTSTART;VALUE=DATE:20190629
DTEND;VALUE=DATE:20190630
DTSTAMP:20260422T080904
CREATED:20190327T151202Z
LAST-MODIFIED:20190629T205158Z
UID:21801-1561766400-1561852799@adventisteffn.org
SUMMARY:Investiture régionale - JANNO
DESCRIPTION:
URL:https://adventisteffn.org/evenement/investiture-regionale-janno/
CATEGORIES:Jeunesse Adventiste
END:VEVENT
BEGIN:VEVENT
DTSTART;VALUE=DATE:20190629
DTEND;VALUE=DATE:20190630
DTSTAMP:20260422T080904
CREATED:20190327T151202Z
LAST-MODIFIED:20190629T205158Z
UID:21800-1561766400-1561852799@adventisteffn.org
SUMMARY:Cœurs en louange - VSPA
DESCRIPTION:
URL:https://adventisteffn.org/evenement/coeurs-en-louange-vspa/
LOCATION:Besançon\, 25000 Besançon\, France
CATEGORIES:Jeunesse Adventiste
END:VEVENT
BEGIN:VEVENT
DTSTART;VALUE=DATE:20190630
DTEND;VALUE=DATE:20190701
DTSTAMP:20260422T080904
CREATED:20190327T145640Z
LAST-MODIFIED:20190629T183736Z
UID:21745-1561852800-1561939199@adventisteffn.org
SUMMARY:Assemblées financières FFN/FACSA
DESCRIPTION:
URL:https://adventisteffn.org/evenement/assemblees-financieres-ffn-facsa/
LOCATION:Eglise Adventiste du Septieme Jour de Bagnolet\, 142 Avenue Gambetta\, 93170 Bagnolet\, France
CATEGORIES:Administration Fédération France Nord
END:VEVENT
END:VCALENDAR