BEGIN:VCALENDAR
VERSION:2.0
PRODID:-//Adventiste FFN - ECPv6.15.20//NONSGML v1.0//EN
CALSCALE:GREGORIAN
METHOD:PUBLISH
X-ORIGINAL-URL:https://adventisteffn.org
X-WR-CALDESC:Évènements pour Adventiste FFN
REFRESH-INTERVAL;VALUE=DURATION:PT1H
X-Robots-Tag:noindex
X-PUBLISHED-TTL:PT1H
BEGIN:VTIMEZONE
TZID:Europe/Paris
BEGIN:DAYLIGHT
TZOFFSETFROM:+0100
TZOFFSETTO:+0200
TZNAME:CEST
DTSTART:20180325T010000
END:DAYLIGHT
BEGIN:STANDARD
TZOFFSETFROM:+0200
TZOFFSETTO:+0100
TZNAME:CET
DTSTART:20181028T010000
END:STANDARD
BEGIN:DAYLIGHT
TZOFFSETFROM:+0100
TZOFFSETTO:+0200
TZNAME:CEST
DTSTART:20190331T010000
END:DAYLIGHT
BEGIN:STANDARD
TZOFFSETFROM:+0200
TZOFFSETTO:+0100
TZNAME:CET
DTSTART:20191027T010000
END:STANDARD
BEGIN:DAYLIGHT
TZOFFSETFROM:+0100
TZOFFSETTO:+0200
TZNAME:CEST
DTSTART:20200329T010000
END:DAYLIGHT
BEGIN:STANDARD
TZOFFSETFROM:+0200
TZOFFSETTO:+0100
TZNAME:CET
DTSTART:20201025T010000
END:STANDARD
END:VTIMEZONE
BEGIN:VEVENT
DTSTART;VALUE=DATE:20190316
DTEND;VALUE=DATE:20190617
DTSTAMP:20260422T100710
CREATED:20190327T150406Z
LAST-MODIFIED:20190330T172303Z
UID:21783-1552694400-1560729599@adventisteffn.org
SUMMARY:Campagnes d’évangélisation ESPÉRANCE 2019
DESCRIPTION:Plus d’informations: \nResponsable: Gérard PÉROUMALContact: evangelisation.ffn@adventiste.org
URL:https://adventisteffn.org/evenement/campagnes-devangelisation-esperance-2019/
CATEGORIES:Evangélisation
END:VEVENT
BEGIN:VEVENT
DTSTART;VALUE=DATE:20190428
DTEND;VALUE=DATE:20190509
DTSTAMP:20260422T100710
CREATED:20190327T155135Z
LAST-MODIFIED:20190429T190442Z
UID:21861-1556409600-1557359999@adventisteffn.org
SUMMARY:Voyage Santé
DESCRIPTION:Plus d’informations: \nResponsable: Jean-Baptiste MIKALAContact: sante.ffn@adventiste.org \nAutres informations à venir
URL:https://adventisteffn.org/evenement/voyage-sante/
CATEGORIES:Santé
END:VEVENT
BEGIN:VEVENT
DTSTART;VALUE=DATE:20190501
DTEND;VALUE=DATE:20190602
DTSTAMP:20260422T100710
CREATED:20190327T151202Z
LAST-MODIFIED:20190530T184731Z
UID:21796-1556668800-1559433599@adventisteffn.org
SUMMARY:Évaluations pour les investitures JA
DESCRIPTION:Plus d’informations: \nResponsable: Stéphane EUCHARISContact: jeunesse.ffn@adventiste.org
URL:https://adventisteffn.org/evenement/evaluations-pour-les-investitures-ja/
CATEGORIES:Jeunesse Adventiste
END:VEVENT
BEGIN:VEVENT
DTSTART;VALUE=DATE:20190504
DTEND;VALUE=DATE:20190505
DTSTAMP:20260422T100710
CREATED:20190327T150040Z
LAST-MODIFIED:20190501T163252Z
UID:21757-1556928000-1557014399@adventisteffn.org
SUMMARY:Journée Église en étude
DESCRIPTION:Plus d’informations: \nResponsable: Christiane LOUISContact: catecheseadultes.ffn@adventiste.org
URL:https://adventisteffn.org/evenement/journee-eglise-en-etude/
CATEGORIES:Catéchèse Adulte
END:VEVENT
BEGIN:VEVENT
DTSTART;VALUE=DATE:20190505
DTEND;VALUE=DATE:20190506
DTSTAMP:20260422T100710
CREATED:20190327T145640Z
LAST-MODIFIED:20190505T211837Z
UID:21738-1557014400-1557100799@adventisteffn.org
SUMMARY:Conseils d’administration FFN/ FACSA
DESCRIPTION:
URL:https://adventisteffn.org/evenement/conseils-dadministration-ffn-facsa/
LOCATION:Paris\, France
CATEGORIES:Administration Fédération France Nord
END:VEVENT
BEGIN:VEVENT
DTSTART;VALUE=DATE:20190511
DTEND;VALUE=DATE:20190512
DTSTAMP:20260422T100710
CREATED:20190327T154940Z
LAST-MODIFIED:20190510T200208Z
UID:21846-1557532800-1557619199@adventisteffn.org
SUMMARY:Concert de chorales
DESCRIPTION:Plus d’informations: \nResponsable: Françoise TONIOLOContact: mae.ffn@adventiste.org
URL:https://adventisteffn.org/evenement/concert-de-chorales/
LOCATION:Paris\, France
CATEGORIES:Ministère Enfants (MAE) et Catéchèse des enfants et jeunes (EDS enfantine)
END:VEVENT
BEGIN:VEVENT
DTSTART;VALUE=DATE:20190512
DTEND;VALUE=DATE:20190513
DTSTAMP:20260422T100710
CREATED:20190327T151816Z
LAST-MODIFIED:20190510T190209Z
UID:21822-1557619200-1557705599@adventisteffn.org
SUMMARY:Formation Anciens/Diacres Région Centre
DESCRIPTION:
URL:https://adventisteffn.org/evenement/formation-anciens-diacres-region-centre/
LOCATION:Tinqueux\, 51430 Tinqueux\, France
CATEGORIES:Association Pastorale
END:VEVENT
BEGIN:VEVENT
DTSTART;VALUE=DATE:20190515
DTEND;VALUE=DATE:20190516
DTSTAMP:20260422T100710
CREATED:20190327T145640Z
LAST-MODIFIED:20190515T155200Z
UID:21740-1557878400-1557964799@adventisteffn.org
SUMMARY:Cœurs en louange JANNO
DESCRIPTION:
URL:https://adventisteffn.org/evenement/coeurs-en-louange-janno/
LOCATION:Tinqueux\, 51430 Tinqueux\, France
CATEGORIES:Administration Fédération France Nord
END:VEVENT
BEGIN:VEVENT
DTSTART;VALUE=DATE:20190519
DTEND;VALUE=DATE:20190520
DTSTAMP:20260422T100710
CREATED:20190327T150406Z
LAST-MODIFIED:20190519T171644Z
UID:21786-1558224000-1558310399@adventisteffn.org
SUMMARY:Club des laïcs
DESCRIPTION:Plus d’informations: \nResponsable: Gérard PÉROUMALContact: evangelisation.ffn@adventiste.org
URL:https://adventisteffn.org/evenement/club-des-laics/
LOCATION:Créteil\, 94000 Créteil\, France
CATEGORIES:Evangélisation
END:VEVENT
BEGIN:VEVENT
DTSTART;VALUE=DATE:20190519
DTEND;VALUE=DATE:20190520
DTSTAMP:20260422T100710
CREATED:20190327T150758Z
LAST-MODIFIED:20190519T164725Z
UID:21790-1558224000-1558310399@adventisteffn.org
SUMMARY:Formation à l’accompagnement des fiancés (4ème session)
DESCRIPTION:Plus d’informations: \nResponsable: Matthieu FURYContact: famille.ffn@adventiste.org
URL:https://adventisteffn.org/evenement/formation-a-laccompagnement-des-fiances-4eme-session/
LOCATION:Église de Bagnolet\, 93170 Bagnolet\, France
CATEGORIES:Famille
END:VEVENT
BEGIN:VEVENT
DTSTART;VALUE=DATE:20190519
DTEND;VALUE=DATE:20190522
DTSTAMP:20260422T100710
CREATED:20190327T151247Z
LAST-MODIFIED:20190521T173251Z
UID:21808-1558224000-1558483199@adventisteffn.org
SUMMARY:Formation responsables et adjoints
DESCRIPTION:
URL:https://adventisteffn.org/evenement/formation-responsables-et-adjoints-3/
CATEGORIES:Liberté Religieuse
END:VEVENT
BEGIN:VEVENT
DTSTART;VALUE=DATE:20190520
DTEND;VALUE=DATE:20190521
DTSTAMP:20260422T100710
CREATED:20190327T151816Z
LAST-MODIFIED:20190520T164831Z
UID:21824-1558310400-1558396799@adventisteffn.org
SUMMARY:Convention pastorale Région Est
DESCRIPTION:Plus d’informations: \nResponsable: Elionay RAJAONAHContact: pastoral.ffn@adventiste.org
URL:https://adventisteffn.org/evenement/convention-pastorale-region-est/
LOCATION:Colmar\, 68000 Colmar\, France
CATEGORIES:Association Pastorale
END:VEVENT
BEGIN:VEVENT
DTSTART;VALUE=DATE:20190526
DTEND;VALUE=DATE:20190527
DTSTAMP:20260422T100710
CREATED:20190327T151327Z
LAST-MODIFIED:20190423T191743Z
UID:21814-1558828800-1558915199@adventisteffn.org
SUMMARY:Atelier Gestion du stress/Relaxation
DESCRIPTION:Plus d’informations: \nResponsable: Enide CASSADEContact: mifem.ffn@adventiste.org
URL:https://adventisteffn.org/evenement/atelier-gestion-du-stress-relaxation/
CATEGORIES:MIFEM - Ministère auprès des Femmes
END:VEVENT
END:VCALENDAR