BEGIN:VCALENDAR
VERSION:2.0
PRODID:-//Adventiste FFN - ECPv6.15.20//NONSGML v1.0//EN
CALSCALE:GREGORIAN
METHOD:PUBLISH
X-WR-CALNAME:Adventiste FFN
X-ORIGINAL-URL:https://adventisteffn.org
X-WR-CALDESC:Évènements pour Adventiste FFN
REFRESH-INTERVAL;VALUE=DURATION:PT1H
X-Robots-Tag:noindex
X-PUBLISHED-TTL:PT1H
BEGIN:VTIMEZONE
TZID:Europe/Paris
BEGIN:DAYLIGHT
TZOFFSETFROM:+0100
TZOFFSETTO:+0200
TZNAME:CEST
DTSTART:20180325T010000
END:DAYLIGHT
BEGIN:STANDARD
TZOFFSETFROM:+0200
TZOFFSETTO:+0100
TZNAME:CET
DTSTART:20181028T010000
END:STANDARD
BEGIN:DAYLIGHT
TZOFFSETFROM:+0100
TZOFFSETTO:+0200
TZNAME:CEST
DTSTART:20190331T010000
END:DAYLIGHT
BEGIN:STANDARD
TZOFFSETFROM:+0200
TZOFFSETTO:+0100
TZNAME:CET
DTSTART:20191027T010000
END:STANDARD
BEGIN:DAYLIGHT
TZOFFSETFROM:+0100
TZOFFSETTO:+0200
TZNAME:CEST
DTSTART:20200329T010000
END:DAYLIGHT
BEGIN:STANDARD
TZOFFSETFROM:+0200
TZOFFSETTO:+0100
TZNAME:CET
DTSTART:20201025T010000
END:STANDARD
END:VTIMEZONE
BEGIN:VEVENT
DTSTART;VALUE=DATE:20190316
DTEND;VALUE=DATE:20190617
DTSTAMP:20260422T113355
CREATED:20190327T150406Z
LAST-MODIFIED:20190330T172303Z
UID:21783-1552694400-1560729599@adventisteffn.org
SUMMARY:Campagnes d’évangélisation ESPÉRANCE 2019
DESCRIPTION:Plus d’informations: \nResponsable: Gérard PÉROUMALContact: evangelisation.ffn@adventiste.org
URL:https://adventisteffn.org/evenement/campagnes-devangelisation-esperance-2019/
CATEGORIES:Evangélisation
END:VEVENT
BEGIN:VEVENT
DTSTART;VALUE=DATE:20190406
DTEND;VALUE=DATE:20190407
DTSTAMP:20260422T113355
CREATED:20190327T145606Z
LAST-MODIFIED:20190403T162124Z
UID:21734-1554508800-1554595199@adventisteffn.org
SUMMARY:Sabbat des invités
DESCRIPTION:Pus d’informations: \nResponsable: Christiane LOUISContact: catecheseadultes.ffn@adventiste.org
URL:https://adventisteffn.org/evenement/sabbat-des-invites/
CATEGORIES:Catéchèse Adulte
END:VEVENT
BEGIN:VEVENT
DTSTART;VALUE=DATE:20190406
DTEND;VALUE=DATE:20190407
DTSTAMP:20260422T113355
CREATED:20190327T150219Z
LAST-MODIFIED:20190403T161716Z
UID:21770-1554508800-1554595199@adventisteffn.org
SUMMARY:2ème jour de jeûne et de prière mondiale
DESCRIPTION:
URL:https://adventisteffn.org/evenement/2eme-jour-de-jeune-et-de-priere-mondiale/
CATEGORIES:Division Inter-Européenne et Conférence Générale
END:VEVENT
BEGIN:VEVENT
DTSTART;VALUE=DATE:20190406
DTEND;VALUE=DATE:20190407
DTSTAMP:20260422T113355
CREATED:20190327T151327Z
LAST-MODIFIED:20190406T174804Z
UID:21812-1554508800-1554595199@adventisteffn.org
SUMMARY:Journée mondiale de prière des femmes
DESCRIPTION:Plus d’informations: \nResponsable: Enide CADASSEContact: mifem.ffn@adventiste.org
URL:https://adventisteffn.org/evenement/journee-mondiale-de-priere-des-femmes/
CATEGORIES:MIFEM - Ministère auprès des Femmes
END:VEVENT
BEGIN:VEVENT
DTSTART;VALUE=DATE:20190408
DTEND;VALUE=DATE:20190409
DTSTAMP:20260422T113355
CREATED:20190327T145311Z
LAST-MODIFIED:20190408T170349Z
UID:21731-1554681600-1554767999@adventisteffn.org
SUMMARY:Convention pastorale Région Ouest
DESCRIPTION:Plus d’informations: \nResponsable: Elionay RAJAONAHContact: pastoral.ffn@adventiste.org
URL:https://adventisteffn.org/evenement/convention-pastorale-region-ouest/
LOCATION:Rennes\, France
CATEGORIES:Association Pastorale
END:VEVENT
BEGIN:VEVENT
DTSTART;VALUE=DATE:20190419
DTEND;VALUE=DATE:20190422
DTSTAMP:20260422T113355
CREATED:20190327T151247Z
LAST-MODIFIED:20190421T200317Z
UID:21807-1555632000-1555891199@adventisteffn.org
SUMMARY:Formation pour les responsables Liberté religieuse
DESCRIPTION:
URL:https://adventisteffn.org/evenement/formation-pour-les-responsables-liberte-religieuse/
CATEGORIES:Liberté Religieuse
END:VEVENT
BEGIN:VEVENT
DTSTART;VALUE=DATE:20190420
DTEND;VALUE=DATE:20190428
DTSTAMP:20260422T113355
CREATED:20190327T150406Z
LAST-MODIFIED:20190427T201748Z
UID:21784-1555718400-1556409599@adventisteffn.org
SUMMARY:semaine d'évangélisation fédérale
DESCRIPTION:Plus d’informations: \nResponsable: Gérard PÉROUMAL\nContact: evangelisation.ffn@adventiste.org
URL:https://adventisteffn.org/evenement/semaine-devangelisation-federale/
CATEGORIES:Evangélisation
END:VEVENT
BEGIN:VEVENT
DTSTART;VALUE=DATE:20190420
DTEND;VALUE=DATE:20190423
DTSTAMP:20260422T113355
CREATED:20190327T155251Z
LAST-MODIFIED:20190422T193259Z
UID:21868-1555718400-1555977599@adventisteffn.org
SUMMARY:Impact Dijon 2019 -  Rassemblement de Jeunesse pour toute l'Union Franco-belge.
DESCRIPTION:
URL:https://adventisteffn.org/evenement/impact-dijon-2019-rassemblement-de-jeunesse-pour-toute-lunion-franco-belge/
LOCATION:Dijon\, 21000 Dijon\, France
CATEGORIES:Union Franco-Belge
END:VEVENT
BEGIN:VEVENT
DTSTART;TZID=Europe/Paris:20190423T121500
DTEND;TZID=Europe/Paris:20190423T131500
DTSTAMP:20260422T113355
CREATED:20190417T163215Z
LAST-MODIFIED:20190417T163215Z
UID:23530-1556021700-1556025300@adventisteffn.org
SUMMARY:Nouvel événement
DESCRIPTION:
URL:https://adventisteffn.org/evenement/nouvel-evenement/
CATEGORIES:Catéchèse Adulte
END:VEVENT
BEGIN:VEVENT
DTSTART;VALUE=DATE:20190428
DTEND;VALUE=DATE:20190429
DTSTAMP:20260422T113355
CREATED:20190327T150040Z
LAST-MODIFIED:20190424T163240Z
UID:21756-1556409600-1556495999@adventisteffn.org
SUMMARY:Formation responsables et adjoints
DESCRIPTION:Plus d’informations: \nResponsable: Christiane LOUISContact: catecheseadultes.ffn@adventiste.org
URL:https://adventisteffn.org/evenement/formation-responsables-et-adjoints/
CATEGORIES:Catéchèse Adulte
END:VEVENT
BEGIN:VEVENT
DTSTART;VALUE=DATE:20190428
DTEND;VALUE=DATE:20190509
DTSTAMP:20260422T113355
CREATED:20190327T155135Z
LAST-MODIFIED:20190429T190442Z
UID:21861-1556409600-1557359999@adventisteffn.org
SUMMARY:Voyage Santé
DESCRIPTION:Plus d’informations: \nResponsable: Jean-Baptiste MIKALAContact: sante.ffn@adventiste.org \nAutres informations à venir
URL:https://adventisteffn.org/evenement/voyage-sante/
CATEGORIES:Santé
END:VEVENT
END:VCALENDAR