BEGIN:VCALENDAR
VERSION:2.0
PRODID:-//Adventiste FFN - ECPv6.15.20//NONSGML v1.0//EN
CALSCALE:GREGORIAN
METHOD:PUBLISH
X-WR-CALNAME:Adventiste FFN
X-ORIGINAL-URL:https://adventisteffn.org
X-WR-CALDESC:Évènements pour Adventiste FFN
REFRESH-INTERVAL;VALUE=DURATION:PT1H
X-Robots-Tag:noindex
X-PUBLISHED-TTL:PT1H
BEGIN:VTIMEZONE
TZID:Europe/Paris
BEGIN:DAYLIGHT
TZOFFSETFROM:+0100
TZOFFSETTO:+0200
TZNAME:CEST
DTSTART:20190331T010000
END:DAYLIGHT
BEGIN:STANDARD
TZOFFSETFROM:+0200
TZOFFSETTO:+0100
TZNAME:CET
DTSTART:20191027T010000
END:STANDARD
BEGIN:DAYLIGHT
TZOFFSETFROM:+0100
TZOFFSETTO:+0200
TZNAME:CEST
DTSTART:20200329T010000
END:DAYLIGHT
BEGIN:STANDARD
TZOFFSETFROM:+0200
TZOFFSETTO:+0100
TZNAME:CET
DTSTART:20201025T010000
END:STANDARD
BEGIN:DAYLIGHT
TZOFFSETFROM:+0100
TZOFFSETTO:+0200
TZNAME:CEST
DTSTART:20210328T010000
END:DAYLIGHT
BEGIN:STANDARD
TZOFFSETFROM:+0200
TZOFFSETTO:+0100
TZNAME:CET
DTSTART:20211031T010000
END:STANDARD
END:VTIMEZONE
BEGIN:VEVENT
DTSTART;TZID=Europe/Paris:20201121T100000
DTEND;TZID=Europe/Paris:20201121T104500
DTSTAMP:20260422T165440
CREATED:20201106T231919Z
LAST-MODIFIED:20201111T234858Z
UID:35459-1605952800-1605955500@adventisteffn.org
SUMMARY:Culte des enfants via Zoom
DESCRIPTION:L’équipe du Ministère Auprès des Enfants (MAE) fédéral propose aux enfants de 5 à 10 ans de vivre des cultes réalisés spécialement pour eux : \n\nSamedis 7\, 14 et 21 novembre de 10h à 10h45\nSamedi 21 novembre de 15h30 à 16h30\n\nPour y participer : \n\nhttps://zoom.us/j/91927823107…\nZoom ID : 919 2782 3107. Mot de passe : Enf@nts
URL:https://adventisteffn.org/evenement/culte-des-enfants-via-zoom-18/
CATEGORIES:Ministère Enfants (MAE) et Catéchèse des enfants et jeunes (EDS enfantine)
END:VEVENT
BEGIN:VEVENT
DTSTART;TZID=Europe/Paris:20201121T100000
DTEND;TZID=Europe/Paris:20201121T104500
DTSTAMP:20260422T165440
CREATED:20201112T235109Z
LAST-MODIFIED:20201121T001344Z
UID:35561-1605952800-1605955500@adventisteffn.org
SUMMARY:Culte des enfants via Zoom
DESCRIPTION:L’équipe du Ministère Auprès des Enfants (MAE) fédéral propose aux enfants de 5 à 10 ans de vivre des cultes réalisés spécialement pour eux  les samedis 7\, 14\, 21 et 28 novembre de 10h à 10h45. \nUpdate : Attention\, changement d’horaire ! Le 21 novembre\, le culte des enfants aura finalement lieu de 10h à 10h45 et non plus l’après-midi !Pour y participer : \n\nhttps://zoom.us/j/91927823107…\nZoom ID : 919 2782 3107. Mot de passe : Enf@nts
URL:https://adventisteffn.org/evenement/culte-des-enfants-via-zoom-19/
CATEGORIES:Ministère Enfants (MAE) et Catéchèse des enfants et jeunes (EDS enfantine)
END:VEVENT
END:VCALENDAR