BEGIN:VCALENDAR
VERSION:2.0
PRODID:-//Adventiste FFN - ECPv6.15.20//NONSGML v1.0//EN
CALSCALE:GREGORIAN
METHOD:PUBLISH
X-ORIGINAL-URL:https://adventisteffn.org
X-WR-CALDESC:Évènements pour Adventiste FFN
REFRESH-INTERVAL;VALUE=DURATION:PT1H
X-Robots-Tag:noindex
X-PUBLISHED-TTL:PT1H
BEGIN:VTIMEZONE
TZID:Europe/Paris
BEGIN:DAYLIGHT
TZOFFSETFROM:+0100
TZOFFSETTO:+0200
TZNAME:CEST
DTSTART:20190331T010000
END:DAYLIGHT
BEGIN:STANDARD
TZOFFSETFROM:+0200
TZOFFSETTO:+0100
TZNAME:CET
DTSTART:20191027T010000
END:STANDARD
BEGIN:DAYLIGHT
TZOFFSETFROM:+0100
TZOFFSETTO:+0200
TZNAME:CEST
DTSTART:20200329T010000
END:DAYLIGHT
BEGIN:STANDARD
TZOFFSETFROM:+0200
TZOFFSETTO:+0100
TZNAME:CET
DTSTART:20201025T010000
END:STANDARD
BEGIN:DAYLIGHT
TZOFFSETFROM:+0100
TZOFFSETTO:+0200
TZNAME:CEST
DTSTART:20210328T010000
END:DAYLIGHT
BEGIN:STANDARD
TZOFFSETFROM:+0200
TZOFFSETTO:+0100
TZNAME:CET
DTSTART:20211031T010000
END:STANDARD
END:VTIMEZONE
BEGIN:VEVENT
DTSTART;TZID=Europe/Paris:20201031T153000
DTEND;TZID=Europe/Paris:20201031T163000
DTSTAMP:20260422T152809
CREATED:20201009T234358Z
LAST-MODIFIED:20201031T003918Z
UID:34942-1604158200-1604161800@adventisteffn.org
SUMMARY:Culte de louanges pour les enfants le 31 octobre
DESCRIPTION:Lors de notre dernier culte pour les enfants de 5 ans à 10 ans par ZOOM du mois de juin 2020\, l’équipe de Ministère auprès des Enfants (MAE) s’était engagée à vous revoir pour un moment d’adoration et de louanges avec les enfants.La promesse est tenue ! Le MAE fédéral vous propose un moment de louanges par Zoom pour notre Seigneur. RDV le sabbat 31 octobre 2020 de 15h30 à 16h30. \n– https://zoom.us/j/91927823107?pwd=OGJkRU9OWGY2UDR1N2FoVkdYZGlzZz09&fbclid=IwAR0GvktONY2noDRFt7ImwU_tqQl3DLY5lgip5ZFniIA0I52o5t4a12ta1gg– Zoom ID de réunion : 919 2782 3107 + mot de passe : Enf@nts
URL:https://adventisteffn.org/evenement/culte-de-louanges-pour-les-enfants-le-31-octobre/
CATEGORIES:Ministère Enfants (MAE) et Catéchèse des enfants et jeunes (EDS enfantine)
END:VEVENT
END:VCALENDAR