BEGIN:VCALENDAR
VERSION:2.0
PRODID:-//Adventiste FFN - ECPv6.15.20//NONSGML v1.0//EN
CALSCALE:GREGORIAN
METHOD:PUBLISH
X-ORIGINAL-URL:https://adventisteffn.org
X-WR-CALDESC:Évènements pour Adventiste FFN
REFRESH-INTERVAL;VALUE=DURATION:PT1H
X-Robots-Tag:noindex
X-PUBLISHED-TTL:PT1H
BEGIN:VTIMEZONE
TZID:Europe/Paris
BEGIN:DAYLIGHT
TZOFFSETFROM:+0100
TZOFFSETTO:+0200
TZNAME:CEST
DTSTART:20190331T010000
END:DAYLIGHT
BEGIN:STANDARD
TZOFFSETFROM:+0200
TZOFFSETTO:+0100
TZNAME:CET
DTSTART:20191027T010000
END:STANDARD
BEGIN:DAYLIGHT
TZOFFSETFROM:+0100
TZOFFSETTO:+0200
TZNAME:CEST
DTSTART:20200329T010000
END:DAYLIGHT
BEGIN:STANDARD
TZOFFSETFROM:+0200
TZOFFSETTO:+0100
TZNAME:CET
DTSTART:20201025T010000
END:STANDARD
BEGIN:DAYLIGHT
TZOFFSETFROM:+0100
TZOFFSETTO:+0200
TZNAME:CEST
DTSTART:20210328T010000
END:DAYLIGHT
BEGIN:STANDARD
TZOFFSETFROM:+0200
TZOFFSETTO:+0100
TZNAME:CET
DTSTART:20211031T010000
END:STANDARD
END:VTIMEZONE
BEGIN:VEVENT
DTSTART;TZID=Europe/Paris:20201004T100000
DTEND;TZID=Europe/Paris:20201004T173000
DTSTAMP:20260422T152619
CREATED:20200818T125640Z
LAST-MODIFIED:20201003T232852Z
UID:34021-1601805600-1601832600@adventisteffn.org
SUMMARY:Comment raconter une histoire : formation Zoom du 04 octobre 2020
DESCRIPTION:Le  Ministère auprès des enfants (MAE) fédéral propose aux responsables EDS enfants et jeunes\,  aux responsables MAE et aux parents de participer à la prochaine formation via Zoom qui aura lieu le dimanche 4 octobre 2020 de 10h à 17h30. Elle abordera le question suivante ; Comment raconter une histoire : \n\nà la maison\nau moment du culte\nà l’EDS\nen club biblique de vacances\n\n  \nPlusieurs idées seront données avec des supports : \n\nun livre\nun cube\nune marionnette\ndes objets\netc.\n\n  \nComment écrire ses propres histoires avec : \n\nla base d’une histoire\nquelques objets\navec l’aide des enfants\n\n  \nLa date limite d’inscription est le 15 septembre 2020.Il est possible de s’inscrire via le formulaire d’inscription ou le site internet de la MAE. \n  \n \n  \nDes informations complémentaires seront données lors de l’inscription. \n  \nJe reste à votre disposition pour toute précision.Que cette période estivale vous apporte la sérénité\, le repos et que la bienveillance du Seigneur vous accompagne. \nFrançoise TONIOLOResponsable du Ministères auprès des enfants et des jeunes \n 
URL:https://adventisteffn.org/evenement/comment-raconter-une-histoire-formation-zoom-du-04-octobre-2020/
LOCATION:Zoom
CATEGORIES:Ministère Enfants (MAE) et Catéchèse des enfants et jeunes (EDS enfantine)
END:VEVENT
END:VCALENDAR