BEGIN:VCALENDAR
VERSION:2.0
PRODID:-//Adventiste FFN - ECPv6.15.20//NONSGML v1.0//EN
CALSCALE:GREGORIAN
METHOD:PUBLISH
X-ORIGINAL-URL:https://adventisteffn.org
X-WR-CALDESC:Évènements pour Adventiste FFN
REFRESH-INTERVAL;VALUE=DURATION:PT1H
X-Robots-Tag:noindex
X-PUBLISHED-TTL:PT1H
BEGIN:VTIMEZONE
TZID:Europe/Paris
BEGIN:DAYLIGHT
TZOFFSETFROM:+0100
TZOFFSETTO:+0200
TZNAME:CEST
DTSTART:20180325T010000
END:DAYLIGHT
BEGIN:STANDARD
TZOFFSETFROM:+0200
TZOFFSETTO:+0100
TZNAME:CET
DTSTART:20181028T010000
END:STANDARD
BEGIN:DAYLIGHT
TZOFFSETFROM:+0100
TZOFFSETTO:+0200
TZNAME:CEST
DTSTART:20190331T010000
END:DAYLIGHT
BEGIN:STANDARD
TZOFFSETFROM:+0200
TZOFFSETTO:+0100
TZNAME:CET
DTSTART:20191027T010000
END:STANDARD
BEGIN:DAYLIGHT
TZOFFSETFROM:+0100
TZOFFSETTO:+0200
TZNAME:CEST
DTSTART:20200329T010000
END:DAYLIGHT
BEGIN:STANDARD
TZOFFSETFROM:+0200
TZOFFSETTO:+0100
TZNAME:CET
DTSTART:20201025T010000
END:STANDARD
END:VTIMEZONE
BEGIN:VEVENT
DTSTART;VALUE=DATE:20190912
DTEND;VALUE=DATE:20190913
DTSTAMP:20260423T003051
CREATED:20190327T154940Z
LAST-MODIFIED:20190912T222127Z
UID:21847-1568246400-1568332799@adventisteffn.org
SUMMARY:Sabbat de l'enfant et du jeune
DESCRIPTION:Plus d’informations: \nResponsable: Françoise TONIOLOContact: mae.ffn@adventiste.org
URL:https://adventisteffn.org/evenement/sabbat-de-lenfant-et-du-jeune/
CATEGORIES:Ministère Enfants (MAE) et Catéchèse des enfants et jeunes (EDS enfantine)
END:VEVENT
BEGIN:VEVENT
DTSTART;VALUE=DATE:20190925
DTEND;VALUE=DATE:20190928
DTSTAMP:20260423T003051
CREATED:20190327T154940Z
LAST-MODIFIED:20190927T222243Z
UID:21848-1569369600-1569628799@adventisteffn.org
SUMMARY:Formation l'enfant et l'adolescent
DESCRIPTION:Plus d’informations: \nResponsable: Françoise TONIOLOContact: mae.ffn@adventiste.org
URL:https://adventisteffn.org/evenement/formation-lenfant-et-ladolescent/
CATEGORIES:Ministère Enfants (MAE) et Catéchèse des enfants et jeunes (EDS enfantine)
END:VEVENT
END:VCALENDAR