BEGIN:VCALENDAR
VERSION:2.0
PRODID:-//Adventiste FFN - ECPv6.15.20//NONSGML v1.0//EN
CALSCALE:GREGORIAN
METHOD:PUBLISH
X-WR-CALNAME:Adventiste FFN
X-ORIGINAL-URL:https://adventisteffn.org
X-WR-CALDESC:Évènements pour Adventiste FFN
REFRESH-INTERVAL;VALUE=DURATION:PT1H
X-Robots-Tag:noindex
X-PUBLISHED-TTL:PT1H
BEGIN:VTIMEZONE
TZID:Europe/Paris
BEGIN:DAYLIGHT
TZOFFSETFROM:+0100
TZOFFSETTO:+0200
TZNAME:CEST
DTSTART:20180325T010000
END:DAYLIGHT
BEGIN:STANDARD
TZOFFSETFROM:+0200
TZOFFSETTO:+0100
TZNAME:CET
DTSTART:20181028T010000
END:STANDARD
BEGIN:DAYLIGHT
TZOFFSETFROM:+0100
TZOFFSETTO:+0200
TZNAME:CEST
DTSTART:20190331T010000
END:DAYLIGHT
BEGIN:STANDARD
TZOFFSETFROM:+0200
TZOFFSETTO:+0100
TZNAME:CET
DTSTART:20191027T010000
END:STANDARD
BEGIN:DAYLIGHT
TZOFFSETFROM:+0100
TZOFFSETTO:+0200
TZNAME:CEST
DTSTART:20200329T010000
END:DAYLIGHT
BEGIN:STANDARD
TZOFFSETFROM:+0200
TZOFFSETTO:+0100
TZNAME:CET
DTSTART:20201025T010000
END:STANDARD
BEGIN:DAYLIGHT
TZOFFSETFROM:+0100
TZOFFSETTO:+0200
TZNAME:CEST
DTSTART:20210328T010000
END:DAYLIGHT
BEGIN:STANDARD
TZOFFSETFROM:+0200
TZOFFSETTO:+0100
TZNAME:CET
DTSTART:20211031T010000
END:STANDARD
END:VTIMEZONE
BEGIN:VEVENT
DTSTART;VALUE=DATE:20191130
DTEND;VALUE=DATE:20200109
DTSTAMP:20260422T030438
CREATED:20190327T155057Z
LAST-MODIFIED:20191129T005134Z
UID:21857-1575072000-1578527999@adventisteffn.org
SUMMARY:40 jours de Prière fédérale
DESCRIPTION:40 jours de prières du samedi 30 novembre 2019 au mercredi 08\njanvier 2020.\nLe Ministère de la Prière de la FFN vous recommander la lecture du livre de Dennis SMITH « Les 40 jours de prière » – Volume1. \nEn référence aux 40 jours que Jésus passa avec ses disciples (Actes 1:3) après sa résurrection\, nous voudrions que chacun seul ou en binôme puisse passer du temps avec Jésus. \nChaque matin : Lisez seul ou en binôme. Discutez en binôme ensuite et Priez pour être rempli du SE en utilisant Ac 5.32 ainsi que pour 5 personnes qui ne le sauront pas.
URL:https://adventisteffn.org/evenement/40-jours-de-priere-federale/
CATEGORIES:Prière
END:VEVENT
BEGIN:VEVENT
DTSTART;VALUE=DATE:20191228
DTEND;VALUE=DATE:20191229
DTSTAMP:20260422T030438
CREATED:20190327T150040Z
LAST-MODIFIED:20191225T183643Z
UID:21765-1577491200-1577577599@adventisteffn.org
SUMMARY:Journée Église en étude
DESCRIPTION:Plus d’informations:Responsable: Christiane LOUISContact: catecheseadultes.ffn@adventiste.org
URL:https://adventisteffn.org/evenement/journee-eglise-en-etude-4/
CATEGORIES:Catéchèse Adulte
END:VEVENT
END:VCALENDAR