BEGIN:VCALENDAR
VERSION:2.0
PRODID:-//Adventiste FFN - ECPv6.15.20//NONSGML v1.0//EN
CALSCALE:GREGORIAN
METHOD:PUBLISH
X-WR-CALNAME:Adventiste FFN
X-ORIGINAL-URL:https://adventisteffn.org
X-WR-CALDESC:Évènements pour Adventiste FFN
REFRESH-INTERVAL;VALUE=DURATION:PT1H
X-Robots-Tag:noindex
X-PUBLISHED-TTL:PT1H
BEGIN:VTIMEZONE
TZID:Europe/Paris
BEGIN:DAYLIGHT
TZOFFSETFROM:+0100
TZOFFSETTO:+0200
TZNAME:CEST
DTSTART:20180325T010000
END:DAYLIGHT
BEGIN:STANDARD
TZOFFSETFROM:+0200
TZOFFSETTO:+0100
TZNAME:CET
DTSTART:20181028T010000
END:STANDARD
BEGIN:DAYLIGHT
TZOFFSETFROM:+0100
TZOFFSETTO:+0200
TZNAME:CEST
DTSTART:20190331T010000
END:DAYLIGHT
BEGIN:STANDARD
TZOFFSETFROM:+0200
TZOFFSETTO:+0100
TZNAME:CET
DTSTART:20191027T010000
END:STANDARD
BEGIN:DAYLIGHT
TZOFFSETFROM:+0100
TZOFFSETTO:+0200
TZNAME:CEST
DTSTART:20200329T010000
END:DAYLIGHT
BEGIN:STANDARD
TZOFFSETFROM:+0200
TZOFFSETTO:+0100
TZNAME:CET
DTSTART:20201025T010000
END:STANDARD
END:VTIMEZONE
BEGIN:VEVENT
DTSTART;VALUE=DATE:20191122
DTEND;VALUE=DATE:20191125
DTSTAMP:20260422T030529
CREATED:20190327T145641Z
LAST-MODIFIED:20191124T160634Z
UID:21748-1574380800-1574639999@adventisteffn.org
SUMMARY:Formation secrétaires et trésoriers fédérale
DESCRIPTION:Les secrétaires et les trésoriers de la Fédération France Nord vivront un week-end de formation et d’édification du vendredi 22 au 24 novembre 2019. \nIls se retrouveront au Domaine de Chalès\, Route de Saint-Viâtre\, Nouan-le-Fuzelier (41600). \nSur ce site\, agréable et verdoyant\, ils auront l’opportunité de partager des temps de formation\, d’édification\, d’échange et de ressourcement. \nLes secrétaires\, les trésoriers ainsi que leurs adjoints sont vivement encouragés à participer à ce week-end de formation et d’édification.
URL:https://adventisteffn.org/evenement/formation-secretaires-et-tresoriers-federale/
LOCATION:Domaine de Chalès\, Route de Saint-Viâtre\, Nouan-le-Fuzelier
CATEGORIES:Administration Fédération France Nord
END:VEVENT
BEGIN:VEVENT
DTSTART;VALUE=DATE:20191123
DTEND;VALUE=DATE:20191124
DTSTAMP:20260422T030529
CREATED:20190327T150040Z
LAST-MODIFIED:20191120T182148Z
UID:21763-1574467200-1574553599@adventisteffn.org
SUMMARY:Sabbat des invités
DESCRIPTION:Plus d’informations: \nResponsable: Christiane LOUISContact: catecheseadultes.ffn@adventiste.org
URL:https://adventisteffn.org/evenement/sabbat-des-invites-3/
CATEGORIES:Catéchèse Adulte
END:VEVENT
END:VCALENDAR