BEGIN:VCALENDAR
VERSION:2.0
PRODID:-//Adventiste FFN - ECPv6.15.20//NONSGML v1.0//EN
CALSCALE:GREGORIAN
METHOD:PUBLISH
X-WR-CALNAME:Adventiste FFN
X-ORIGINAL-URL:https://adventisteffn.org
X-WR-CALDESC:Évènements pour Adventiste FFN
REFRESH-INTERVAL;VALUE=DURATION:PT1H
X-Robots-Tag:noindex
X-PUBLISHED-TTL:PT1H
BEGIN:VTIMEZONE
TZID:Europe/Paris
BEGIN:DAYLIGHT
TZOFFSETFROM:+0100
TZOFFSETTO:+0200
TZNAME:CEST
DTSTART:20180325T010000
END:DAYLIGHT
BEGIN:STANDARD
TZOFFSETFROM:+0200
TZOFFSETTO:+0100
TZNAME:CET
DTSTART:20181028T010000
END:STANDARD
BEGIN:DAYLIGHT
TZOFFSETFROM:+0100
TZOFFSETTO:+0200
TZNAME:CEST
DTSTART:20190331T010000
END:DAYLIGHT
BEGIN:STANDARD
TZOFFSETFROM:+0200
TZOFFSETTO:+0100
TZNAME:CET
DTSTART:20191027T010000
END:STANDARD
BEGIN:DAYLIGHT
TZOFFSETFROM:+0100
TZOFFSETTO:+0200
TZNAME:CEST
DTSTART:20200329T010000
END:DAYLIGHT
BEGIN:STANDARD
TZOFFSETFROM:+0200
TZOFFSETTO:+0100
TZNAME:CET
DTSTART:20201025T010000
END:STANDARD
END:VTIMEZONE
BEGIN:VEVENT
DTSTART;VALUE=DATE:20191020
DTEND;VALUE=DATE:20191021
DTSTAMP:20260422T030530
CREATED:20190327T151327Z
LAST-MODIFIED:20191020T183653Z
UID:21813-1571529600-1571615999@adventisteffn.org
SUMMARY:Atelier bien être
DESCRIPTION:Plus d’informations: \nResponsable: Enide CADASSEContact: mifem.ffn@adventiste.org
URL:https://adventisteffn.org/evenement/atelier-bien-etre/
LOCATION:Paris\, France
CATEGORIES:MIFEM - Ministère auprès des Femmes
END:VEVENT
END:VCALENDAR