BEGIN:VCALENDAR
VERSION:2.0
PRODID:-//Adventiste FFN - ECPv6.15.20//NONSGML v1.0//EN
CALSCALE:GREGORIAN
METHOD:PUBLISH
X-ORIGINAL-URL:https://adventisteffn.org
X-WR-CALDESC:Évènements pour Adventiste FFN
REFRESH-INTERVAL;VALUE=DURATION:PT1H
X-Robots-Tag:noindex
X-PUBLISHED-TTL:PT1H
BEGIN:VTIMEZONE
TZID:Europe/Paris
BEGIN:DAYLIGHT
TZOFFSETFROM:+0100
TZOFFSETTO:+0200
TZNAME:CEST
DTSTART:20180325T010000
END:DAYLIGHT
BEGIN:STANDARD
TZOFFSETFROM:+0200
TZOFFSETTO:+0100
TZNAME:CET
DTSTART:20181028T010000
END:STANDARD
BEGIN:DAYLIGHT
TZOFFSETFROM:+0100
TZOFFSETTO:+0200
TZNAME:CEST
DTSTART:20190331T010000
END:DAYLIGHT
BEGIN:STANDARD
TZOFFSETFROM:+0200
TZOFFSETTO:+0100
TZNAME:CET
DTSTART:20191027T010000
END:STANDARD
BEGIN:DAYLIGHT
TZOFFSETFROM:+0100
TZOFFSETTO:+0200
TZNAME:CEST
DTSTART:20200329T010000
END:DAYLIGHT
BEGIN:STANDARD
TZOFFSETFROM:+0200
TZOFFSETTO:+0100
TZNAME:CET
DTSTART:20201025T010000
END:STANDARD
END:VTIMEZONE
BEGIN:VEVENT
DTSTART;VALUE=DATE:20190701
DTEND;VALUE=DATE:20190902
DTSTAMP:20260422T064329
CREATED:20190327T155251Z
LAST-MODIFIED:20190730T190650Z
UID:21871-1561939200-1567382399@adventisteffn.org
SUMMARY:CAMPS JA de l'Union Franco-Belge: Dates et lieux à définir
DESCRIPTION:
URL:https://adventisteffn.org/evenement/camps-ja-de-lunion-franco-belge-dates-et-lieux-a-definir/
CATEGORIES:Union Franco-Belge
END:VEVENT
BEGIN:VEVENT
DTSTART;VALUE=DATE:20190729
DTEND;VALUE=DATE:20190805
DTSTAMP:20260422T064329
CREATED:20190327T150219Z
LAST-MODIFIED:20190724T163722Z
UID:21773-1564358400-1564963199@adventisteffn.org
SUMMARY:Camporee Explorateurs - Jeunesse Européenne
DESCRIPTION:
URL:https://adventisteffn.org/evenement/camporee-explorateurs-jeunesse-europeenne/
LOCATION:Portugal
CATEGORIES:Division Inter-Européenne et Conférence Générale
END:VEVENT
BEGIN:VEVENT
DTSTART;VALUE=DATE:20190730
DTEND;VALUE=DATE:20190805
DTSTAMP:20260422T064329
CREATED:20190327T150219Z
LAST-MODIFIED:20190724T163722Z
UID:21775-1564444800-1564963199@adventisteffn.org
SUMMARY:Camporee EUD
DESCRIPTION:
URL:https://adventisteffn.org/evenement/camporee-eud/
LOCATION:Tchéquie
CATEGORIES:Division Inter-Européenne et Conférence Générale
END:VEVENT
BEGIN:VEVENT
DTSTART;VALUE=DATE:20190730
DTEND;VALUE=DATE:20190805
DTSTAMP:20260422T064329
CREATED:20190327T151203Z
LAST-MODIFIED:20190730T235136Z
UID:21802-1564444800-1564963199@adventisteffn.org
SUMMARY:Camporee EUD
DESCRIPTION:Plus d’informations: \ncontact:                  -Dina Lambert: assistante.dir@adventiste.org                -Virginie Pothier: virginie.pothier@ufb.adventiste.org
URL:https://adventisteffn.org/evenement/camporee-eud-2/
LOCATION:Tchéquie
CATEGORIES:Jeunesse Adventiste
END:VEVENT
END:VCALENDAR