BEGIN:VCALENDAR
VERSION:2.0
PRODID:-//Adventiste FFN - ECPv6.15.20//NONSGML v1.0//EN
CALSCALE:GREGORIAN
METHOD:PUBLISH
X-ORIGINAL-URL:https://adventisteffn.org
X-WR-CALDESC:Évènements pour Adventiste FFN
REFRESH-INTERVAL;VALUE=DURATION:PT1H
X-Robots-Tag:noindex
X-PUBLISHED-TTL:PT1H
BEGIN:VTIMEZONE
TZID:Europe/Paris
BEGIN:DAYLIGHT
TZOFFSETFROM:+0100
TZOFFSETTO:+0200
TZNAME:CEST
DTSTART:20180325T010000
END:DAYLIGHT
BEGIN:STANDARD
TZOFFSETFROM:+0200
TZOFFSETTO:+0100
TZNAME:CET
DTSTART:20181028T010000
END:STANDARD
BEGIN:DAYLIGHT
TZOFFSETFROM:+0100
TZOFFSETTO:+0200
TZNAME:CEST
DTSTART:20190331T010000
END:DAYLIGHT
BEGIN:STANDARD
TZOFFSETFROM:+0200
TZOFFSETTO:+0100
TZNAME:CET
DTSTART:20191027T010000
END:STANDARD
BEGIN:DAYLIGHT
TZOFFSETFROM:+0100
TZOFFSETTO:+0200
TZNAME:CEST
DTSTART:20200329T010000
END:DAYLIGHT
BEGIN:STANDARD
TZOFFSETFROM:+0200
TZOFFSETTO:+0100
TZNAME:CET
DTSTART:20201025T010000
END:STANDARD
END:VTIMEZONE
BEGIN:VEVENT
DTSTART;VALUE=DATE:20190316
DTEND;VALUE=DATE:20190617
DTSTAMP:20260422T131209
CREATED:20190327T150406Z
LAST-MODIFIED:20190330T172303Z
UID:21783-1552694400-1560729599@adventisteffn.org
SUMMARY:Campagnes d’évangélisation ESPÉRANCE 2019
DESCRIPTION:Plus d’informations: \nResponsable: Gérard PÉROUMALContact: evangelisation.ffn@adventiste.org
URL:https://adventisteffn.org/evenement/campagnes-devangelisation-esperance-2019/
CATEGORIES:Evangélisation
END:VEVENT
BEGIN:VEVENT
DTSTART;VALUE=DATE:20190419
DTEND;VALUE=DATE:20190422
DTSTAMP:20260422T131209
CREATED:20190327T151247Z
LAST-MODIFIED:20190421T200317Z
UID:21807-1555632000-1555891199@adventisteffn.org
SUMMARY:Formation pour les responsables Liberté religieuse
DESCRIPTION:
URL:https://adventisteffn.org/evenement/formation-pour-les-responsables-liberte-religieuse/
CATEGORIES:Liberté Religieuse
END:VEVENT
BEGIN:VEVENT
DTSTART;VALUE=DATE:20190420
DTEND;VALUE=DATE:20190428
DTSTAMP:20260422T131210
CREATED:20190327T150406Z
LAST-MODIFIED:20190427T201748Z
UID:21784-1555718400-1556409599@adventisteffn.org
SUMMARY:semaine d'évangélisation fédérale
DESCRIPTION:Plus d’informations: \nResponsable: Gérard PÉROUMAL\nContact: evangelisation.ffn@adventiste.org
URL:https://adventisteffn.org/evenement/semaine-devangelisation-federale/
CATEGORIES:Evangélisation
END:VEVENT
BEGIN:VEVENT
DTSTART;VALUE=DATE:20190420
DTEND;VALUE=DATE:20190423
DTSTAMP:20260422T131210
CREATED:20190327T155251Z
LAST-MODIFIED:20190422T193259Z
UID:21868-1555718400-1555977599@adventisteffn.org
SUMMARY:Impact Dijon 2019 -  Rassemblement de Jeunesse pour toute l'Union Franco-belge.
DESCRIPTION:
URL:https://adventisteffn.org/evenement/impact-dijon-2019-rassemblement-de-jeunesse-pour-toute-lunion-franco-belge/
LOCATION:Dijon\, 21000 Dijon\, France
CATEGORIES:Union Franco-Belge
END:VEVENT
END:VCALENDAR